BEGIN:VCALENDAR
VERSION:2.0
PRODID:-//Animal Rights Toronto - ECPv6.15.20//NONSGML v1.0//EN
CALSCALE:GREGORIAN
METHOD:PUBLISH
X-WR-CALNAME:Animal Rights Toronto
X-ORIGINAL-URL:https://animalrightstoronto.com
X-WR-CALDESC:Events for Animal Rights Toronto
REFRESH-INTERVAL;VALUE=DURATION:PT1H
X-Robots-Tag:noindex
X-PUBLISHED-TTL:PT1H
BEGIN:VTIMEZONE
TZID:America/Toronto
BEGIN:DAYLIGHT
TZOFFSETFROM:-0500
TZOFFSETTO:-0400
TZNAME:EDT
DTSTART:20240310T070000
END:DAYLIGHT
BEGIN:STANDARD
TZOFFSETFROM:-0400
TZOFFSETTO:-0500
TZNAME:EST
DTSTART:20241103T060000
END:STANDARD
BEGIN:DAYLIGHT
TZOFFSETFROM:-0500
TZOFFSETTO:-0400
TZNAME:EDT
DTSTART:20250309T070000
END:DAYLIGHT
BEGIN:STANDARD
TZOFFSETFROM:-0400
TZOFFSETTO:-0500
TZNAME:EST
DTSTART:20251102T060000
END:STANDARD
BEGIN:DAYLIGHT
TZOFFSETFROM:-0500
TZOFFSETTO:-0400
TZNAME:EDT
DTSTART:20260308T070000
END:DAYLIGHT
BEGIN:STANDARD
TZOFFSETFROM:-0400
TZOFFSETTO:-0500
TZNAME:EST
DTSTART:20261101T060000
END:STANDARD
END:VTIMEZONE
BEGIN:VEVENT
DTSTART;TZID=America/Toronto:20250203T100000
DTEND;TZID=America/Toronto:20250205T210000
DTSTAMP:20260421T131842
CREATED:20250202T200804Z
LAST-MODIFIED:20250202T200804Z
UID:7540-1738576800-1738789200@animalrightstoronto.com
SUMMARY:UGG Online Pressure Campaing Q1
DESCRIPTION:Join Our 3-Day Online Campaign to Urge UGG to Cease Selling Sheepskin Products. \nDay 1: Social Media Comment Blast\n– Engage on UGG’s social media platforms to voice your concerns. \nDay 2: Phone Call Initiative\n– Reach out to UGG’s customer service to communicate our request. \nDay 3: Email Campaign\n– Send a pre-written email advocating for the discontinuation of Sheepskin products. \nDetails:\n– Each day’s action will be announced at 10:00 AM EST on Facebook and Instagram. Kindly share this initiative with your network.\n– Further instructions will be provided on the day of each action.\n– We stand firmly against any form of oppression or hate speech. \nFor inquiries\, please contact Not Your Skin. \nNote: Please check the Facebook event page for updates.
URL:https://animalrightstoronto.com/event/ugg-online-pressure-campaing-q1/
LOCATION:Online Event
CATEGORIES:Anti-Fur-Leather-Skin
ATTACH;FMTTYPE=image/jpeg:https://animalrightstoronto.com/wp-content/uploads/2025/02/UGG_3_day_actions.jpg
ORGANIZER;CN="Not Your Skin":MAILTO:noreply@facebookmail.com
END:VEVENT
BEGIN:VEVENT
DTSTART;TZID=America/Toronto:20250204T093000
DTEND;TZID=America/Toronto:20250204T093000
DTSTAMP:20260421T131842
CREATED:20250126T015750Z
LAST-MODIFIED:20250126T020301Z
UID:7374-1738661400-1738661400@animalrightstoronto.com
SUMMARY:Court Hearing: Vegan Human Rights Case
DESCRIPTION:Join Animal Justice inside the courthouse to watch this hearing live and support this important case for vegan rights! \nAnimal Justice has been granted leave to intervene at the Divisional Court of Ontario in a groundbreaking discrimination case brought by vegan firefighter\, Adam Knauff. This case raises the novel question of whether a belief in ethical veganism is a type of “creed”\, a protected ground under the Ontario Human Rights Code. \nIn 2023\, the Human Rights Tribunal of Ontario denied Mr. Knauff’s claim that his belief system as an ethical vegan counted as a creed. Now\, Mr. Knauff seeks judicial review of that decision from the Court. An Animal Justice lawyer will argue that ethical veganism as a secular belief system meets all the requirements to be protected as a creed. \nLocation: Courtroom 3\, Osgoode Hall \nNote: Please check the Facebook event page for updates.
URL:https://animalrightstoronto.com/event/court-hearing-vegan-human-rights-case/
LOCATION:Osgoode Hall\, 130 Queen Street West\, Toronto\, Ontario\, Canada
CATEGORIES:Animal Justice,Court Case
ATTACH;FMTTYPE=image/jpeg:https://animalrightstoronto.com/wp-content/uploads/2025/01/Court_hearing_Vegan_human_rights_case.jpg
ORGANIZER;CN="Animal Justice":MAILTO:info@animaljustice.ca
END:VEVENT
BEGIN:VEVENT
DTSTART;TZID=America/Toronto:20250208T103000
DTEND;TZID=America/Toronto:20250208T123000
DTSTAMP:20260421T131842
CREATED:20250126T002426Z
LAST-MODIFIED:20250126T002734Z
UID:7343-1739010600-1739017800@animalrightstoronto.com
SUMMARY:AR Chats @ Wishbone – Saturday February 8th
DESCRIPTION:Date selection and planning begins for the 2025 TORONTO ANIMAL RIGHTS MARCH! Anyone interested in volunteering as an organizer\, we look forward to seeing you! \nNew year\, new resolve\, new strategies.\nJoin with other like-minded and like-hearted people to chat\, brainstorm\, and strategize about standing up for the animals!\nOn the agenda: Along with general discussion about getting animal-active and business by FurFree Toronto\, date selection and planning begins for the 2025 Toronto Animal Rights March! \nA few details about AR Chats @Wishbone:\nWhether you’re a seasoned advocate or someone new to the scene\, this is a judgment-free\, no-pressure environment that welcomes every idea and supports every comfort level. Because each person is uniquely wired and different tactics resonate with different people\, there’s no one foolproof form of activism. \nAfter each session\, attendees are encouraged to participate in a street action to put your new skills and energy into practice (this is totally voluntary\, no pressure).\nSome attend one week\, but can’t come to the next one…just attend when you can.\nPlease feel free to bring a plant-based food item to share.\nLet’s return Toronto and other cities in Ontario to the thriving\, prolific animal activism centres they once were! \nAs the building that houses Wishbone is a heritage building boasting one of the last attendant-operated elevators in the city of Toronto (but only during weekday office hours)\, Wishbone will unfortunately not be accessible to anyone requiring a lift to the third floor. Our apologies in advance for this inconvenience.\nWishbone Animal Rights Lab…where vegan is the default\, NOT the option. \nNote: Please check the Facebook event page for updates.
URL:https://animalrightstoronto.com/event/ar-chats-wishbone-saturday-february-8th/
LOCATION:Wishbone Animal Rights Lab\, Suite 305\, 600 Bay Street\, Toronto\, Ontario\, M5G 1M6\, Canada
CATEGORIES:AR Planning & Strategy
ATTACH;FMTTYPE=image/jpeg:https://animalrightstoronto.com/wp-content/uploads/2025/01/AR_chat_Wishbone.jpg
END:VEVENT
BEGIN:VEVENT
DTSTART;TZID=America/Toronto:20250208T121500
DTEND;TZID=America/Toronto:20250208T151500
DTSTAMP:20260421T131842
CREATED:20250116T183801Z
LAST-MODIFIED:20250116T183824Z
UID:7264-1739016900-1739027700@animalrightstoronto.com
SUMMARY:Action Volunteers for Animals (AVA) Anti-Fur Annual Action
DESCRIPTION:Once again\, we are asking animal rights activists and organizations across Canada to unite against the fur industry by marking National Anti-Fur Day – now in its 36th year! – On Saturday February 8th. \nThis action will take place in 2 locations\, Burlington 12:30pm – 1:30pm then Oakville from 2pm – 3pm. More details to follow soon. Dress warm! \nNote: Please check the Facebook event page for updates.
URL:https://animalrightstoronto.com/event/action-volunteers-for-animals-ava-anti-fur-annual-action/
LOCATION:Ontario
CATEGORIES:Anti-Fur-Leather-Skin
ATTACH;FMTTYPE=image/jpeg:https://animalrightstoronto.com/wp-content/uploads/2025/01/AVA-anti-fur-action.jpg
END:VEVENT
BEGIN:VEVENT
DTSTART;TZID=America/Toronto:20250208T130000
DTEND;TZID=America/Toronto:20250208T140000
DTSTAMP:20260421T131842
CREATED:20250207T095026Z
LAST-MODIFIED:20250208T152727Z
UID:7609-1739019600-1739023200@animalrightstoronto.com
SUMMARY:National Anti Fur Day - Part 1
DESCRIPTION:Join @furfreetoronto this coming Saturday February 8 for an anti-fur demo with banner drop and more!  \nWe’ll meet at the big Toronto sign at 1pm near the First Nations sign. We might asked to leave the square\, so look for our banners if you don’t see us! Likely near the bridge going over Queen. St right next to the square.  \nHead on over to @furfreetoronto page for details 🙌 \n#toronto #yyz #the6ix #furcoat #furtrim #furfree #animalrights #joinus
URL:https://animalrightstoronto.com/event/national-anti-fur-day-part-1/
LOCATION:Nathan Phillips Square\, 100 Queen Street West\, Toronto\, M5H 2N1\, CA
ATTACH;FMTTYPE=image/jpeg:https://animalrightstoronto.com/wp-content/uploads/2025/02/IMG_3144.jpeg
END:VEVENT
BEGIN:VEVENT
DTSTART;TZID=America/Toronto:20250209T150000
DTEND;TZID=America/Toronto:20250209T150000
DTSTAMP:20260421T131842
CREATED:20250201T201815Z
LAST-MODIFIED:20250201T202118Z
UID:7520-1739113200-1739113200@animalrightstoronto.com
SUMMARY:Ralphy's Retreat Afternoon Tea Fundraiser
DESCRIPTION:🚨❤️🐷Valentine’s Day Fundraiser for Ralphy’s 🚨❤️🐷\n☕️Valenswine’s Afternoon Tea ☕️ \nDate: Sunday\, February 9th at 3:00PM\nLocation:\nRoyal Tea on King\n256 King St\,\nMidland\, ON\nL4R 3M3 \nCelebrate Valentine’s Day with a Ralphy’s Valenswine’s Afternoon Tea at Royal Tea on King! \nShow your love for the residents at Ralphy’s by joining us for a fun filled afternoon of laugher\, love\, delicious teas\, vegan treats\, amazing door prizes and fabulous store discounts! \nPlease dress in red and pink and anytime piggy themed! \nAll proceeds raised from this delectable event will go towards the care and maintenance of the beloved residents at Ralphy’s Retreat.\nTickets are $55 each and include all vegan finger sandwiches\, mini quiches\, scones\, sweets\, and a loose leaf pot of tea. Gluten wise options available but must be stated at the time of ticket purchase (also please advise of any allergies) \nLimited tickets available! Get yours today through the following link:\nhttps://www.ralphysretreat.ca/upcoming-events\n❤️A huge Ralphy’s Thank You to Royal Tea on King for hosting us ❤️❤️ \nNote: Please check the Facebook event page or event website for updates.
URL:https://animalrightstoronto.com/event/ralphys-retreat-afternoon-tea-fundraiser/
LOCATION:Royal Tea on King\, 256 King St\, Midland\, Ontario\, L4R 3M3\, Canada
CATEGORIES:Animal Sanctuaries,Fundraiser
ATTACH;FMTTYPE=image/jpeg:https://animalrightstoronto.com/wp-content/uploads/2025/02/Ralphys_Retreat_Afternoon_Tea.jpg
END:VEVENT
BEGIN:VEVENT
DTSTART;TZID=America/Toronto:20250210T100000
DTEND;TZID=America/Toronto:20250212T210000
DTSTAMP:20260421T131842
CREATED:20250202T201538Z
LAST-MODIFIED:20250202T201612Z
UID:7544-1739181600-1739394000@animalrightstoronto.com
SUMMARY:PetSmart Online Pressure Campaign
DESCRIPTION:Join Our 3-Day Online Campaign to Urge PetSmart to Ban the Sale of Live Animals. \nDay 1: Social Media Comment Blast\nEngage on PetSmart’s social media platforms to voice your concerns. \nDay 2: Phone Call Initiative\nReach out to PetSmart customer service to communicate our request. \nDay 3: Email Campaign\nSend a pre-written email advocating for the ban of live animal sales within PetSmart. \nDetails:\nEach day’s action will be announced at 10:00 AM EST on Facebook and Instagram. Kindly share this initiative with your network.\nFurther instructions will be provided on the day of each action.\nWe stand firmly against any form of oppression or hate speech.\nFor inquiries\, please contact Animal Souls Restored. \nNote: Please check the Facebook event page for updates.
URL:https://animalrightstoronto.com/event/petsmart-online-pressure-campaign/
LOCATION:Online Event
ATTACH;FMTTYPE=image/jpeg:https://animalrightstoronto.com/wp-content/uploads/2025/02/Pet_smart_pressure_campaign.jpg
END:VEVENT
BEGIN:VEVENT
DTSTART;TZID=America/Toronto:20250213T120000
DTEND;TZID=America/Toronto:20250213T130000
DTSTAMP:20260421T131842
CREATED:20250213T070531Z
LAST-MODIFIED:20250213T070750Z
UID:7671-1739448000-1739451600@animalrightstoronto.com
SUMMARY:What the Studies Say About Animal vs Plant-Based Meat
DESCRIPTION:FOR OUR NEXT AJA LUNCHTIME LIVE on FEB. 13… \nREGISTER (free): https://training.animaljusticeacademy.com/lunchtime-live-registration-02132025 \nYou’ll probably recall how Beyond Burger and Impossible Meat entered the scene a few years ago to great fanfare… Folks were thrilled to have a tasty alternative to animal meat that was healthier\, more environmental\, and cruelty-free. \nShortly after\, however\, the animal agriculture industry started a massive campaign to discredit these competing plant-based products by positioning them as “ultra-processed”\, “unnatural”\, and “unhealthy”. \nOn this AJA Lunchtime Live\, we have Dr. Matthew Nagra\, ND joining us to set the record straight! \nHe was the lead researcher of a meta-analysis published in the Canadian Journal of Cardiology that looked at studies from 1970 to 2023 comparing plant-based and animal-based meats. \nHe’ll give us the Coles Notes on this large-scale review that shows plant-based meat alternatives — even the so-called “ultra-processed” products — as the more heart-healthy option. \nThe findings report how plant-based meats better support reductions in weight and cholesterol and supply more dietary fibre. Also\, how they’re not only better for the planet\, they’re better for the body. \nIn this session\, Matthew will give us tips on how to use this information to effectively to dispel the meat industry’s harmful myths about plant-based meats. \nThursday\, February 13\n12:00-1:00pm ET on ZOOM
URL:https://animalrightstoronto.com/event/7671/
LOCATION:Ontario
ATTACH;FMTTYPE=image/jpeg:https://animalrightstoronto.com/wp-content/uploads/2025/02/IMG_3290.jpeg
END:VEVENT
BEGIN:VEVENT
DTSTART;TZID=America/Toronto:20250214T080000
DTEND;TZID=America/Toronto:20250214T200000
DTSTAMP:20260421T131842
CREATED:20250213T202531Z
LAST-MODIFIED:20250213T202531Z
UID:7680-1739520000-1739563200@animalrightstoronto.com
SUMMARY:Where is the Love: Tell Ethiopian Airlines to Go Cruelty-Free
DESCRIPTION:Email the CEO of Ethiopian Airlines to urge it to go cruelty-free.\nThe link for the pre-written email will be posted on the Facebook event page at 8 a.m. on February 14.
URL:https://animalrightstoronto.com/event/where-is-the-love-tell-ethiopian-airlines-to-go-cruelty-free/
LOCATION:Online Event
CATEGORIES:Online Action
ATTACH;FMTTYPE=image/jpeg:https://animalrightstoronto.com/wp-content/uploads/2025/02/Where_is_the_Love_Ethiopian_Airlines.jpg
END:VEVENT
BEGIN:VEVENT
DTSTART;TZID=America/Toronto:20250215T140000
DTEND;TZID=America/Toronto:20250215T153000
DTSTAMP:20260421T131842
CREATED:20250116T184528Z
LAST-MODIFIED:20250116T184528Z
UID:7268-1739628000-1739633400@animalrightstoronto.com
SUMMARY:Toronto National Anti-Fur Day Protest
DESCRIPTION:Join us in Toronto as we protest along with many other cities in Canada for National Anti Fur Day. \nPlease dress warmly! Posters will be provided but you’re welcome to bring your own too. \nNote: Please check the Facebook event page for updates
URL:https://animalrightstoronto.com/event/toronto-national-anti-fur-day-protest/
LOCATION:Louis Vuitton Maison Toronto\, 150 Bloor Street West\, Toronto\, M5S 2X9\, CA
CATEGORIES:Anti-Fur-Leather-Skin
ATTACH;FMTTYPE=image/jpeg:https://animalrightstoronto.com/wp-content/uploads/2025/01/anti-fur-protest.jpg
END:VEVENT
BEGIN:VEVENT
DTSTART;TZID=America/Toronto:20250216T120000
DTEND;TZID=America/Toronto:20250216T150000
DTSTAMP:20260421T131842
CREATED:20250126T020714Z
LAST-MODIFIED:20250126T020714Z
UID:7381-1739707200-1739718000@animalrightstoronto.com
SUMMARY:PaintPix & Chill - Let's Paint Together@ The Lab
DESCRIPTION:The last two painting sessions have been so popular\, we’ve decided to make them a permanent monthly fixture at Wishbone. Due to the need for artists need to spread out and create\, the event is capped at 15 participants. \nEnjoy a relaxing\, enjoyable afternoon and let your creative juices flow freely with Kieran Hayes\, volunteer at Wishbone (aka The Sunday Guy). \nBYOM (bring your own materials) or feel free to use what’s available at the Lab. \nAll skill levels from zero to Picasso are welcome. \nWe are a default-vegan centre\, so if you’re bringing food\, it must be plant-based only. \nAs the building that houses Wishbone is a heritage building boasting one of the last attendant-operated elevators in the city of Toronto (but only during weekday office hours)\, Wishbone will unfortunately not be accessible to anyone requiring a lift to the third floor for this particular event. Our apologies in advance for this inconvenience. \nNote: Please check the Facebook event page for updates.
URL:https://animalrightstoronto.com/event/paintpix-chill-lets-paint-together-the-lab/
LOCATION:Wishbone Animal Rights Lab\, Suite 305\, 600 Bay Street\, Toronto\, Ontario\, M5G 1M6\, Canada
CATEGORIES:Vegan Social Event
ATTACH;FMTTYPE=image/jpeg:https://animalrightstoronto.com/wp-content/uploads/2025/01/Lets_Paint_together_Feb16.jpg
END:VEVENT
BEGIN:VEVENT
DTSTART;TZID=America/Toronto:20250216T150000
DTEND;TZID=America/Toronto:20250216T180000
DTSTAMP:20260421T131843
CREATED:20250121T021233Z
LAST-MODIFIED:20250121T021322Z
UID:7282-1739718000-1739728800@animalrightstoronto.com
SUMMARY:BOARD GAME NIGHT/SOCIAL EVENT
DESCRIPTION:Join the WTF Hamilton group to be kept up to date with this and other events:\nwww.facebook.com/groups/wtfhamilton/ \nIt’s been a little while Hamilton but let’s get together\, reconnect and plan some great things for the new year! This board game cafe looks fun and has lots of vegan snacks. \nLooking forward to hopefully seeing everyone! \nNote: Please check the Facebook event page for updates.
URL:https://animalrightstoronto.com/event/board-game-night-social-event/
LOCATION:THE BARD AND BEAR GAMES CAFE\, 237 James St\, Hamilton\, Ontario\, L8R2L2\, Canada
CATEGORIES:Vegan Social Event,We the Free
ATTACH;FMTTYPE=image/jpeg:https://animalrightstoronto.com/wp-content/uploads/2025/01/IMG_0245.jpeg
END:VEVENT
BEGIN:VEVENT
DTSTART;TZID=America/Toronto:20250222T110000
DTEND;TZID=America/Toronto:20250222T180000
DTSTAMP:20260421T131843
CREATED:20250126T024328Z
LAST-MODIFIED:20250126T024328Z
UID:7390-1740222000-1740247200@animalrightstoronto.com
SUMMARY:Compassionate Clothing Collective
DESCRIPTION:Please join us once again for another clothing swap! Winter edition. \nFor a very low cost of $3\, you gain entry to a swap-’til-you-drop event where you can give your previously-loved threads a new lease on life and you\, too\, can go home with some cool classic duds. Unique knick-knacks\, as well! \n🐕 Please feel free to bring dog clothing\, accessories and toys to swap. \nHuman accessories and decorations are also welcome. \n🪡 DIY Corner: Don’t have many clothes to swap? Join us in the other room for DIY activities! We will have patch work\, sewing to repurpose\, repair and recycle and a cozy space to work on your own projects. Feel free to hang out and get creative! 🧑🏽‍🎨 \nNote: Please check the Facebook event page for updates.
URL:https://animalrightstoronto.com/event/compassionate-clothing-collective/
LOCATION:Wishbone Animal Rights Lab\, Suite 305\, 600 Bay Street\, Toronto\, Ontario\, M5G 1M6\, Canada
CATEGORIES:Vegan Social Event
ATTACH;FMTTYPE=image/jpeg:https://animalrightstoronto.com/wp-content/uploads/2025/01/compassionate_clothing_exchange.jpg
END:VEVENT
BEGIN:VEVENT
DTSTART;TZID=America/Toronto:20250222T140000
DTEND;TZID=America/Toronto:20250222T150000
DTSTAMP:20260421T131843
CREATED:20250202T202447Z
LAST-MODIFIED:20250202T202554Z
UID:7548-1740232800-1740236400@animalrightstoronto.com
SUMMARY:Protest Whole Foods for Failing Chickens
DESCRIPTION:Join Mercy For Animals volunteers to demand that Whole Foods stop sourcing Frankenchickens—birds selectively bred to grow monstrously large unnaturally fast. \nWe are working hard to expose the truth behind the chicken industry’s continued use of Frankenchickens and to pressure Whole Foods\, who pledged to stop sourcing them by 2024\, to keep their promise and publish a plan for banning Frankenchickens from their supply chain. Learn more about the campaign here: https://frankenchickens.com/ \nWe will be at the Whole Foods located at 87 Avenue Rd\, Toronto\, ON M5R 3R9 Saturday\, February 22 at 2 PM to inform the public about this issue and hold them accountable to their promise. We will have a banner\, signs\, and leaflets to use the day of. Come with yourself and bonus if you can bring a friend! \nBy attending this and other Mercy For Animals events\, you agree to our Volunteer Terms (https://mercyforanimals.org/volunteer-terms/) and Volunteer Handbook (https://file-cdn.mercyforanimals.org/…/MFA-Volunteer…) \nIf you have any questions feel free to message me on Facebook or by email at animalsmatter@hotmail.com.\nThank you\,\nKelli Demontneay \nNote: Please check the Facebook event page for updates.
URL:https://animalrightstoronto.com/event/protest-whole-foods-for-failing-chickens-3/
LOCATION:Whole Food Market Avenue Rd\, 87 Avenue Rd\, Toronto\, Ontario\, Canada
CATEGORIES:Protest or Rally
ATTACH;FMTTYPE=image/jpeg:https://animalrightstoronto.com/wp-content/uploads/2025/02/Whole_food_failing_chickens.jpg
END:VEVENT
BEGIN:VEVENT
DTSTART;TZID=America/Toronto:20250226T073000
DTEND;TZID=America/Toronto:20250226T200000
DTSTAMP:20260421T131843
CREATED:20250223T195135Z
LAST-MODIFIED:20250223T195135Z
UID:7856-1740555000-1740600000@animalrightstoronto.com
SUMMARY:All Day Vigil & Outreach
DESCRIPTION:Please join us for an all-day vigil for the pigs and cows event on Wednesday\, February 26th followed by Plant Based Treaty outreach.\nSee schedule below.\n——————————————–\n🐷 Toronto Pig Save vigil for the pigs\n📍 Fearman’s slaughterhouse\, Appleby Line at Harvester Rd.\, Burlington \n🕥 7:30-9:30am\n🐮 Toronto Cow Save vigil for the cows\n📍 St. Helen’s Meat Packers\, 3 Glen Scarlett Rd.\, Toronto \n🕥 11:00am to 1:00pm\n🥙 Lunch (Optional)\n📍 Thien Tam Restaurant\, 2907 Dundas St W\, Toronto \n🕥 1:30pm – 3:00pm\n🌱 Plant Based Treaty Toronto Outreach\n📍 Wishbone Animal Rights Lab\, 600 Bay Street\, 3rd floor \n🕥 3:30pm – 6:00pm: Outreach (materials provided)\n🕥 6:00pm – 8:00pm: Refreshments\n———————————————- \nNOTE: Please check the Facebook page before attending for changes or cancellation.\nPlease join us! Bring a friend. Be their voice.\nLearn more about the cow vigils at TorontoCowSave.com and pig vigils at TorontoPigSave.org.\nPlease read regarding safety at ASM vigils: Global Safety Rules\nASM Code of conduct:\nhttps://thesavemovement.org/code-of-conduct/
URL:https://animalrightstoronto.com/event/all-day-vigil-outreach/
LOCATION:Fearmans Pork Inc.\, 821 Appleby Line\, Burlington\, ON\, Burlington\, L7L 4W9\, CA
CATEGORIES:Animal Save Movement,Toronto Cow Save,Toronto Pig Save,Vegan Outreach,Vigil
ATTACH;FMTTYPE=image/jpeg:https://animalrightstoronto.com/wp-content/uploads/2025/02/all-day-vigil-outdreach.jpg
END:VEVENT
BEGIN:VEVENT
DTSTART;TZID=America/Toronto:20250228T180000
DTEND;TZID=America/Toronto:20250228T210000
DTSTAMP:20260421T131843
CREATED:20250211T000036Z
LAST-MODIFIED:20250211T000036Z
UID:7630-1740765600-1740776400@animalrightstoronto.com
SUMMARY:Movie Night at the Lab: The Invisible Vegan
DESCRIPTION:Join us for a vegan celebration of Black History Month with a movie night screening of The Invisible Vegan. \nThe Invisible Vegan is a 90-minute independent documentary that explores the problem of unhealthy dietary patterns in the African-American community\, foregrounding the health and wellness possibilities enabled by plant-based vegan diets and lifestyle choices. Featuring interviews with luminaries such as Cedric the Entertainer (actor and comedian)\, John Salley (former NBA player and wellness advocate)\, and Clayton Gavin (aka Stic of the hip-hop duo Dead Prez)\, this documentary shows how intertwined histories of slavery\, twentieth-century socioeconomic inequalities\, and the rise of Big Food\, have led to the increased consumption and dependence on meat\, processed\, junk\, and fast food. \nInspired by Ralph Ellison’s 1952 firsthand account of alienation as an African-American in The Invisible Man\, the title of this documentary evokes the ways in which prevailing attitudes and stereotypes about veganism within the African-American community have rendered the benefits of this lifestyle invisible within spheres of popular culture\, social experience\, and political debate. \nThere will be a “concession stand” but feel free to bring your own plant-based snacks & drinks. This is another opportunity to connect with the Toronto animal rights community.\nBring a snack\, invite a friend.\nEveryone is welcome! \nNote: Please check the Facebook event page for updates.
URL:https://animalrightstoronto.com/event/movie-night-at-the-lab-the-invisible-vegan/
LOCATION:Ontario
CATEGORIES:Vegan Social Event
ATTACH;FMTTYPE=image/jpeg:https://animalrightstoronto.com/wp-content/uploads/2025/02/8267788595e941df4e3b422dac6067e73625e7f77f1ca7fe2b2c285dcd49571c.jpg
END:VEVENT
END:VCALENDAR