BEGIN:VCALENDAR
VERSION:2.0
PRODID:-//Animal Rights Toronto - ECPv6.15.20//NONSGML v1.0//EN
CALSCALE:GREGORIAN
METHOD:PUBLISH
X-WR-CALNAME:Animal Rights Toronto
X-ORIGINAL-URL:https://animalrightstoronto.com
X-WR-CALDESC:Events for Animal Rights Toronto
REFRESH-INTERVAL;VALUE=DURATION:PT1H
X-Robots-Tag:noindex
X-PUBLISHED-TTL:PT1H
BEGIN:VTIMEZONE
TZID:America/Toronto
BEGIN:DAYLIGHT
TZOFFSETFROM:-0500
TZOFFSETTO:-0400
TZNAME:EDT
DTSTART:20240310T070000
END:DAYLIGHT
BEGIN:STANDARD
TZOFFSETFROM:-0400
TZOFFSETTO:-0500
TZNAME:EST
DTSTART:20241103T060000
END:STANDARD
BEGIN:DAYLIGHT
TZOFFSETFROM:-0500
TZOFFSETTO:-0400
TZNAME:EDT
DTSTART:20250309T070000
END:DAYLIGHT
BEGIN:STANDARD
TZOFFSETFROM:-0400
TZOFFSETTO:-0500
TZNAME:EST
DTSTART:20251102T060000
END:STANDARD
BEGIN:DAYLIGHT
TZOFFSETFROM:-0500
TZOFFSETTO:-0400
TZNAME:EDT
DTSTART:20260308T070000
END:DAYLIGHT
BEGIN:STANDARD
TZOFFSETFROM:-0400
TZOFFSETTO:-0500
TZNAME:EST
DTSTART:20261101T060000
END:STANDARD
END:VTIMEZONE
BEGIN:VEVENT
DTSTART;TZID=America/Toronto:20250111T140000
DTEND;TZID=America/Toronto:20250111T160000
DTSTAMP:20260421T144816
CREATED:20250110T210611Z
LAST-MODIFIED:20250110T210738Z
UID:7207-1736604000-1736611200@animalrightstoronto.com
SUMMARY:End Fur Farming -Toronto
DESCRIPTION:Join us either online or in person… \nhttps://facebook.com/events/s/join-furfree-toronto-in-collec/618743783883309/ \nJoin the voices who are speaking out against fur farming and take action to end the practice in Canada. We will  collect signatures for this petition to shut down fur farms – deadline of January 27.  \nClick here https://www.ourcommons.ca/petitions/en/Petition/Details?Petition=e-5269 to sign the federal e-petition that calls on Canadian government to end fur farming.  \nClick here https://furfarming.ca/take-action/ send a letter to your MP and learn more about fur farming on our campaign page. \nPlease share these links on your pages
URL:https://animalrightstoronto.com/event/end-fur-farming-toronto/
LOCATION:Yonge-Dundas Square\, 1 Dundas Street East\, Toronto\, Ontario\, Canada
ATTACH;FMTTYPE=image/jpeg:https://animalrightstoronto.com/wp-content/uploads/2025/01/IMG_2454.jpeg
END:VEVENT
BEGIN:VEVENT
DTSTART;TZID=America/Toronto:20250112T120000
DTEND;TZID=America/Toronto:20250112T150000
DTSTAMP:20260421T144816
CREATED:20241223T003309Z
LAST-MODIFIED:20241223T003309Z
UID:7036-1736683200-1736694000@animalrightstoronto.com
SUMMARY:I Love It When We're Painting Together... AGAIN!
DESCRIPTION:Drop by on Jan 12th • 12-3pm \nOur first drop-in paint session was a hit\, so we’re doing it again! \nWhether you’re an art pro or just paint-curious\, come hang with us! \nWe’ve got paints & canvas boards ready for you! \n(Feel free to bring your own fave supplies\, too.) \nZero pressure\, all fun – just come as you are.
URL:https://animalrightstoronto.com/event/i-love-it-when-were-painting-together-again/
LOCATION:Wishbone Animal Rights Lab\, Suite 305\, 600 Bay Street\, Toronto\, Ontario\, M5G 1M6\, Canada
CATEGORIES:Wishbone AR Lab
ATTACH;FMTTYPE=image/jpeg:https://animalrightstoronto.com/wp-content/uploads/2024/12/painting-party.jpg
END:VEVENT
BEGIN:VEVENT
DTSTART;TZID=America/Toronto:20250114T100000
DTEND;TZID=America/Toronto:20250114T120000
DTSTAMP:20260421T144816
CREATED:20241209T190749Z
LAST-MODIFIED:20241209T191204Z
UID:6924-1736848800-1736856000@animalrightstoronto.com
SUMMARY:Toronto Cow Save Vigil
DESCRIPTION:Toronto Cow Save holds vigils for the cows to bear witness to\, to speak up for\, and to bring awareness to the hundreds of lives who are needlessly and violently stolen daily at Toronto slaughterhouses. \nNOTE: Please check the Facebook event page before attending for changes or cancellation. \nPlease join us! Bring a friend. Be their voice.\nPlacards\, leaflets\, and support are provided.\nWe usually go to a coffee shop after to decompress\, share\, and organize. Everyone is welcome and encouraged to join.\nLearn more at TorontoCowSave.com
URL:https://animalrightstoronto.com/event/toronto-cow-save-vigil-5/
LOCATION:St. Helens Meat Packers Ltd\, 1-3 Glen Scarlett Rd.\, Toronto\, Ontario\, M6N 1P5\, Canada
CATEGORIES:Toronto Cow Save
ATTACH;FMTTYPE=image/jpeg:https://animalrightstoronto.com/wp-content/uploads/2024/12/Toronto_cow_save_vigil_2024.jpg
END:VEVENT
BEGIN:VEVENT
DTSTART;TZID=America/Toronto:20250117T190000
DTEND;TZID=America/Toronto:20250117T220000
DTSTAMP:20260421T144816
CREATED:20250116T181001Z
LAST-MODIFIED:20250116T181001Z
UID:7244-1737140400-1737151200@animalrightstoronto.com
SUMMARY:We The Free - INSPIRING BEHAVIOUR CHANGE IN OTHERS
DESCRIPTION:This training is ideal for those who advocate on behalf of nonhuman animals to friends\, family\, and strangers. In this training you will learn: \n– How to avoid debates and arguments\n– How to reduce defensiveness in others\n– How to manage other people’s egos\n– How to help people explore their values (what questions to ask)\n– How to help people align their actions with their values \nThe training will be approximately 2 hours followed by a Q and A session. \n𝐏𝐥𝐞𝐚𝐬𝐞 𝐫𝐞𝐠𝐢𝐬𝐭𝐞𝐫 𝐭𝐨 𝐣𝐨𝐢𝐧 (𝐢𝐭𝐬 𝐟𝐫𝐞𝐞!): https://www.eventbrite.com/e/inspiring-behaviour-change-vegan-outreach-training-american-timezones-tickets-1112461746029 \n𝘛𝘰 𝘢𝘷𝘰𝘪𝘥 𝘵𝘪𝘮𝘦𝘻𝘰𝘯𝘦 𝘥𝘪𝘴𝘤𝘳𝘦𝘱𝘢𝘯𝘤𝘪𝘦𝘴\, 𝘤𝘩𝘦𝘤𝘬 𝘵𝘩𝘦 𝘦𝘷𝘦𝘯𝘵 𝘴𝘵𝘢𝘳𝘵 𝘵𝘪𝘮𝘦 𝘧𝘰𝘳 𝘺𝘰𝘶𝘳 𝘭𝘰𝘤𝘢𝘵𝘪𝘰𝘯: https://www.timeanddate.com/worldclock/fixedtime.html?msg=IBC+America&iso=20250117T19&p1=250&ah=3 \n𝐀𝐛𝐨𝐮𝐭 𝐭𝐡𝐞 𝐅𝐚𝐜𝐢𝐥𝐢𝐭𝐚𝐭𝐨𝐫:\nJen is the Community Development Manager at We The Free and has had a dedicated presence in the animal rights movement for 7 years. Jen has actively explored various advocacy methods\, ultimately finding the coaching approach to be the most impactful. Her deep understanding of effective communication has proven invaluable in helping individuals explore their values and align their actions with compassion for nonhuman animals. \n𝐏𝐥𝐞𝐚𝐬𝐞 𝐫𝐞𝐠𝐢𝐬𝐭𝐞𝐫 𝐭𝐨 𝐣𝐨𝐢𝐧 (𝐢𝐭𝐬 𝐟𝐫𝐞𝐞!): https://www.eventbrite.com/e/inspiring-behaviour-change-vegan-outreach-training-american-timezones-tickets-1112461746029 \nProven to be the most effective way to inspire behaviour change in others\, the skills taught in this training will increase the percentage of people who go vegan\, or take steps toward going vegan\, after speaking with you.
URL:https://animalrightstoronto.com/event/we-the-free-inspiring-behaviour-change-in-others/
LOCATION:Online Event
CATEGORIES:Training or Workshop,We the Free
ATTACH;FMTTYPE=image/jpeg:https://animalrightstoronto.com/wp-content/uploads/2025/01/IMG_0213.jpeg
END:VEVENT
BEGIN:VEVENT
DTSTART;TZID=America/Toronto:20250118T150000
DTEND;TZID=America/Toronto:20250118T170000
DTSTAMP:20260421T144816
CREATED:20250116T182451Z
LAST-MODIFIED:20250116T182451Z
UID:7259-1737212400-1737219600@animalrightstoronto.com
SUMMARY:Join FurFree Toronto in Collecting Signatures to Shut Down Fur Farms Federa e-5629
DESCRIPTION:Join the voices who are speaking out against fur farming and take action to end the practice in Canada. We will collect signatures for this petition to shut down fur farms – deadline of January 27. \nClick here https://www.ourcommons.ca/petitions/en/Petition/Details?Petition=e-5269 to sign the federal e-petition that calls on Canadian government to end fur farming. \nClick here https://furfarming.ca/take-action/ send a letter to your MP and learn more about fur farming on our campaign page.\nPlease share these links on your pages ❤ \nNote: Please check the Facebook event page for updates.
URL:https://animalrightstoronto.com/event/join-furfree-toronto-in-collecting-signatures-to-shut-down-fur-farms-federa-e-5629/
LOCATION:Louis Vuitton Maison Toronto\, 150 Bloor Street West\, Toronto\, M5S 2X9\, CA
ATTACH;FMTTYPE=image/jpeg:https://animalrightstoronto.com/wp-content/uploads/2025/01/shut_down_fur_farms_e-5269.jpg
END:VEVENT
BEGIN:VEVENT
DTSTART;TZID=America/Toronto:20250124T190000
DTEND;TZID=America/Toronto:20250124T210000
DTSTAMP:20260421T144816
CREATED:20250121T020959Z
LAST-MODIFIED:20250121T020959Z
UID:7288-1737745200-1737752400@animalrightstoronto.com
SUMMARY:INTERACTIVE ONLINE WORKSHOP ACTIVIST EMPOWERMENT WORKSHOP
DESCRIPTION:Has self-doubt ever held you back from stepping into your full potential as an activist? This empowering workshop will equip you with the tools to build unshakable confidence\, persevere through setbacks\, and cultivate a resilient mindset. Through interactive exercises and thought-provoking discussions\, you’ll learn to reframe limiting beliefs\, overcome failure\, and align your strengths with impactful action for animals. \nLearning Outcomes:\n– Strengthen self-belief and develop confidence in your abilities\n– Learn to overcome failure and reframe setbacks as opportunities for growth\n– Cultivate resilience and perseverance through an empowered mindset\n– Leave motivated and equipped to take bold\, meaningful action for animal liberation \nSecure your spot & register now for FREE: https://www.eventbrite.com/e/1116393245249 \nTo avoid time descrepancies\, confirm the time here: https://www.timeanddate.com/worldclock/fixedtime.html?msg=Activist+Empowerment+Workshop+%7C+American+Timezones&iso=20250124T19&p1=250&ah=2 \nAbout the Facilitator:\nJen\, the Community Manager of We The Free\, leads global efforts to empower activists and foster a united\, impactful community for animals. An experienced workshop facilitator and speaker\, Jen has delivered training sessions to advocates worldwide since joining the animal rights movement in 2017. With over a decade of leadership experience\, a background in philosophy\, and a passion for personal development\, she integrates insights from psychology\, philosophy\, and her own journey to inspire and uplift others. Jen is dedicated to equipping activists with the tools and mindset needed to create meaningful\, lasting change for animals. \nNote: Please check the Facebook event page for updates.
URL:https://animalrightstoronto.com/event/interactive-online-workshop-activist-empowerment-workshop/
LOCATION:Online Event
CATEGORIES:Training or Workshop,We the Free
ATTACH;FMTTYPE=image/jpeg:https://animalrightstoronto.com/wp-content/uploads/2025/01/IMG_0246.jpeg
END:VEVENT
BEGIN:VEVENT
DTSTART;TZID=America/Toronto:20250125T140000
DTEND;TZID=America/Toronto:20250125T150000
DTSTAMP:20260421T144816
CREATED:20250125T083859Z
LAST-MODIFIED:20250125T083936Z
UID:7362-1737813600-1737817200@animalrightstoronto.com
SUMMARY:Join FurFree Toronto in collecting signatures to shut down fur farms Federal e-5269.
DESCRIPTION:Join the voices who are speaking out against fur farming and take action to end the practice in Canada. We will  collect signatures for this petition to shut down fur farms – deadline of January 27.  \nClick here https://www.ourcommons.ca/petitions/en/Petition/Details?Petition=e-5269 to sign the federal e-petition that calls on Canadian government to end fur farming.  \nClick here https://furfarming.ca/take-action/ send a letter to your MP and learn more about fur farming on our campaign page. \nPlease share these links on your pages
URL:https://animalrightstoronto.com/event/fur-free-toronto/
LOCATION:St Lawrence Market
ATTACH;FMTTYPE=image/jpeg:https://animalrightstoronto.com/wp-content/uploads/2025/01/IMG_2862.jpeg
END:VEVENT
BEGIN:VEVENT
DTSTART;TZID=America/Toronto:20250128T190000
DTEND;TZID=America/Toronto:20250128T210000
DTSTAMP:20260421T144816
CREATED:20250121T020711Z
LAST-MODIFIED:20250121T020711Z
UID:7293-1738090800-1738098000@animalrightstoronto.com
SUMMARY:EFFECTIVE COMMUNICATION WORKSHOP
DESCRIPTION:This workshop will provide an introduction to Nonviolent Communication (NVC) for animal advocates. NVC is a communication modality based on principles of Nonviolence\, a philosophy that seeks to find a third way beyond the binary of pacifism and violence. NVC seeks solutions to conflicts that\, through awareness of the needs of all parties\, lead towards healing and reconciliation for all. \nThis highly interactive workshop will cover the basic vocabulary of NVC- observations\, feelings\, needs\, and requests\, and include exercises to begin (or continue) your practice. We’ll discuss using NVC across power differentials and in some common conflicts internal to the animal rights movement. \nSecure your spot & register now for free: https://www.eventbrite.com/e/1115681105219 \nTo avoid time discrepancies\, confirm the time here: https://www.timeanddate.com/worldclock/fixedtime.html?msg=Communication+Workshop&iso=20250128T19&p1=250&ah=2 \nAbout the Facilitator: \nEva Hamer is a co-founder of Pax Fauna\, an organization committed to revitalizing the grassroots animal rights movement in the US through original research on messaging\, strategy\, and culture. Building on a background in Kingian nonviolence\, Eva Hamer has been engaging in intensive study of Nonviolent communication for several years\, and she is committed to bringing NVC’s repertoire of creative problem-solving tools to the work of building a stronger culture in the animal movement. \nEva has been organizing in the animal freedom movement since 2015 when she started working with DxE in Chicago\, where she focused on building community\, writing protest music\, and compiling the movements’ songs into an online songbook used by advocates around the world. From 2018-2021\, she worked full-time for DxE\, managing the organization’s many legal cases\, organizing trainings\, and orchestrating large artistic demonstrations. Eva has a deep curiosity about the internal cultural dynamics of social movements and their ability to influence dominant culture. \nNote: Please check the Facebook event page for updates.
URL:https://animalrightstoronto.com/event/effective-communication-workshop/
LOCATION:Online Event
CATEGORIES:Training or Workshop,We the Free
ATTACH;FMTTYPE=image/jpeg:https://animalrightstoronto.com/wp-content/uploads/2025/01/IMG_0211.jpeg
END:VEVENT
BEGIN:VEVENT
DTSTART;TZID=America/Toronto:20250131T180000
DTEND;TZID=America/Toronto:20250131T210000
DTSTAMP:20260421T144816
CREATED:20250114T201316Z
LAST-MODIFIED:20250115T194205Z
UID:7232-1738346400-1738357200@animalrightstoronto.com
SUMMARY:Movie Night at the Lab - The Land of Ahimsa
DESCRIPTION:Movie Night at the Lab! Wishbone Animal Rights Lab and We The Free are teaming up once again\, this time to bring you “The Land of Ahimsa”. Invite your non-vegan friends\, family\, and co-workers! \nThe concept of Ahimsa — or respect for all living things and avoidance of violence towards others — is an age-old concept espoused by many religions. But now with our society’s full knowledge of animal exploitation and the atrocities happening in\, for example\, the dairy and leather industries\, can we still call India ‘the land of Ahimsa’? \nThis thought-provoking feature-length documentary brings us the story of Dolly Vyas-Ahuja’s journey to veganism and explores the notion of the people of India returning to their roots and living their peaceful values. \nThe filmmakers hope that “The Land of Ahimsa” will encourage Indians\, as well as viewers all around the world\, to practise “Ahimsa”…and for them to persuade others to do the same. \nWe also have a special treat…one of the editors of the film\, Ray Kowalchuk\, will be in-theatre to introduce the film and be available for a Q&A at the movie’s completion. \nThe Lab is a default-vegan space\, so all outside food must be plant-based. Animal-friendly snacks are available at the concession stand. Vish\, our little plushie Ambassador of Anti-Speciesism\, gets LOTS to eat\, so don’t let him fool you when he asks for some of your popcorn! \nFYI: The Lab is located within a heritage building boasting one of the last attendant-operated elevators in the city of Toronto. Unfortunately for this particular event\, we are unable to accommodate anyone requiring a lift to the 3rd floor. We are working on remedying this situation for future events held at Wishbone. \nNotes: Please check the Facebook event page for updates.
URL:https://animalrightstoronto.com/event/movie-night-the-land-of-ahimsa/
LOCATION:Wishbone Animal Rights Lab\, Suite 305\, 600 Bay Street\, Toronto\, Ontario\, M5G 1M6\, Canada
ATTACH;FMTTYPE=image/jpeg:https://animalrightstoronto.com/wp-content/uploads/2025/01/Wishbone_Land_of_Ahimsa_movie_night_Jan31.jpg
END:VEVENT
END:VCALENDAR