BEGIN:VCALENDAR
VERSION:2.0
PRODID:-//Animal Rights Toronto - ECPv6.15.20//NONSGML v1.0//EN
CALSCALE:GREGORIAN
METHOD:PUBLISH
X-ORIGINAL-URL:https://animalrightstoronto.com
X-WR-CALDESC:Events for Animal Rights Toronto
REFRESH-INTERVAL;VALUE=DURATION:PT1H
X-Robots-Tag:noindex
X-PUBLISHED-TTL:PT1H
BEGIN:VTIMEZONE
TZID:America/Toronto
BEGIN:DAYLIGHT
TZOFFSETFROM:-0500
TZOFFSETTO:-0400
TZNAME:EDT
DTSTART:20220313T070000
END:DAYLIGHT
BEGIN:STANDARD
TZOFFSETFROM:-0400
TZOFFSETTO:-0500
TZNAME:EST
DTSTART:20221106T060000
END:STANDARD
BEGIN:DAYLIGHT
TZOFFSETFROM:-0500
TZOFFSETTO:-0400
TZNAME:EDT
DTSTART:20230312T070000
END:DAYLIGHT
BEGIN:STANDARD
TZOFFSETFROM:-0400
TZOFFSETTO:-0500
TZNAME:EST
DTSTART:20231105T060000
END:STANDARD
BEGIN:DAYLIGHT
TZOFFSETFROM:-0500
TZOFFSETTO:-0400
TZNAME:EDT
DTSTART:20240310T070000
END:DAYLIGHT
BEGIN:STANDARD
TZOFFSETFROM:-0400
TZOFFSETTO:-0500
TZNAME:EST
DTSTART:20241103T060000
END:STANDARD
END:VTIMEZONE
BEGIN:VEVENT
DTSTART;TZID=America/Toronto:20231216T140000
DTEND;TZID=America/Toronto:20231216T170000
DTSTAMP:20260424T230931
CREATED:20231208T035717Z
LAST-MODIFIED:20231208T035925Z
UID:2434-1702735200-1702746000@animalrightstoronto.com
SUMMARY:Cube of Truth: Toronto: December 16th: 2:00 PM
DESCRIPTION:If you are interested in staying up to date on future chapter activity\, please join the following volunteer group:\nhttps://www.facebook.com/groups/1888163914763063/ \nThe Cube of Truth is a street outreach campaign that employs direct action with the public\, in a structured manner. We use standard practice footage displayed on screens to expose the truth about animal agriculture to the public and one on one conversations to educate them about animal exploitation. Before attending a Cube of Truth it is mandatory that you learn our AV Outreach Protocol of by watching the full “Holding Non-Vegans Accountable” outreach workshop and reading our AV Outreach Protocol document: \nHolding Non-Vegans Accountable Workshop:\nhttps://bit.ly/holdingnonvegansaccountable \nAV Outreach Protocol:\nhttp://bit.ly/AVOutreachProtocol \nMasks\, signs\, outreach cards and video playing devices are provided by the organisers. \nWhen attending a Cube of Truth\, please do not bring bags or personal belongings unless you absolutely need to. If you do\, this means you will be wearing your bag for the duration of the event\, so pack lightly. Any items brought to the Cube are your responsibility. ORGANISERS WILL NOT BE STORING AND ARE NOT RESPONSIBLE FOR YOUR PERSONAL BELONGINGS IN ANY WAY. \nAlways wear weather appropriate\, PLAIN BLACK or AV branded clothing without any graphics\, including logos of other organisations and/or vegan messages. This is essential to our aesthetic. You can purchase official AV clothing on our website: cubeoftruth.com. Absolutely no animal derived clothing and no fake fur (including faux fur trims) is to be worn at a Cube of Truth. \nRespect AV chapter organisers and other volunteers at all times\, adhere to our structure and represent our core values while attending a Cube of Truth. The seriousness and professionalism of our actions are directly proportional to how the public perceives us. \nThank You for Standing With Us.
URL:https://animalrightstoronto.com/event/cube-of-truth-toronto-december-16th-200-pm/
LOCATION:Keele Subway Station\, 21 Keele St\, Toronto\, Ontario\, M6P 2J8\, Canada
CATEGORIES:Anonymous for the Voiceless,Cube of Truth
END:VEVENT
BEGIN:VEVENT
DTSTART;TZID=America/Toronto:20231223T163000
DTEND;TZID=America/Toronto:20231223T183000
DTSTAMP:20260424T230931
CREATED:20231208T035741Z
LAST-MODIFIED:20231223T184239Z
UID:2438-1703349000-1703356200@animalrightstoronto.com
SUMMARY:CANCELLED  Cube of Truth: Burlington: December 23th: 4:30PM
DESCRIPTION:CANCELLED DUE TO WEATHER \nIf you are interested in staying up to date on future chapter activity\, please join the following volunteer group:\nhttps://www.facebook.com/groups/2138152503095759/ \nThe Cube of Truth is a street outreach campaign that employs direct action with the public\, in a structured manner. We use standard practice footage displayed on screens to expose the truth about animal agriculture to the public and one on one conversations to educate them about animal exploitation. Before attending a Cube of Truth it is mandatory that you learn our AV Outreach Protocol of by watching the full “Holding Non-Vegans Accountable” outreach workshop and reading our AV Outreach Protocol document: \nHolding Non-Vegans Accountable Workshop:\nhttps://bit.ly/holdingnonvegansaccountable3 \nAV Outreach Protocol:\nhttp://bit.ly/AVOutreachProtocol \nMasks\, signs\, outreach cards and video playing devices are provided by the organisers. \nWhen attending a Cube of Truth\, please do not bring bags or personal belongings unless you absolutely need to. If you do\, this means you will be wearing your bag for the duration of the event\, so pack lightly. Any items brought to the Cube are your responsibility. ORGANISERS WILL NOT BE STORING AND ARE NOT RESPONSIBLE FOR YOUR PERSONAL BELONGINGS IN ANY WAY. \nAlways wear weather appropriate\, PLAIN BLACK or AV branded clothing without any graphics\, including logos of other organisations and/or vegan messages. This is essential to our aesthetic. You can purchase official AV clothing on our website: cubeoftruth.com. Absolutely no animal derived clothing and no fake fur (including faux fur trims) is to be worn at a Cube of Truth. \nRespect AV chapter organisers and other volunteers at all times\, adhere to our structure and represent our core values while attending a Cube of Truth. The seriousness and professionalism of our actions are directly proportional to how the public perceives us. \nThank You for Standing With Us. \n  \n 
URL:https://animalrightstoronto.com/event/cube-of-truth-burlington-december-23th-430pm/
LOCATION:Ontario
CATEGORIES:Anonymous for the Voiceless,Cube of Truth
END:VEVENT
END:VCALENDAR