BEGIN:VCALENDAR
VERSION:2.0
PRODID:-//Animal Rights Toronto - ECPv6.15.20//NONSGML v1.0//EN
CALSCALE:GREGORIAN
METHOD:PUBLISH
X-WR-CALNAME:Animal Rights Toronto
X-ORIGINAL-URL:https://animalrightstoronto.com
X-WR-CALDESC:Events for Animal Rights Toronto
REFRESH-INTERVAL;VALUE=DURATION:PT1H
X-Robots-Tag:noindex
X-PUBLISHED-TTL:PT1H
BEGIN:VTIMEZONE
TZID:America/Toronto
BEGIN:DAYLIGHT
TZOFFSETFROM:-0500
TZOFFSETTO:-0400
TZNAME:EDT
DTSTART:20220313T070000
END:DAYLIGHT
BEGIN:STANDARD
TZOFFSETFROM:-0400
TZOFFSETTO:-0500
TZNAME:EST
DTSTART:20221106T060000
END:STANDARD
BEGIN:DAYLIGHT
TZOFFSETFROM:-0500
TZOFFSETTO:-0400
TZNAME:EDT
DTSTART:20230312T070000
END:DAYLIGHT
BEGIN:STANDARD
TZOFFSETFROM:-0400
TZOFFSETTO:-0500
TZNAME:EST
DTSTART:20231105T060000
END:STANDARD
BEGIN:DAYLIGHT
TZOFFSETFROM:-0500
TZOFFSETTO:-0400
TZNAME:EDT
DTSTART:20240310T070000
END:DAYLIGHT
BEGIN:STANDARD
TZOFFSETFROM:-0400
TZOFFSETTO:-0500
TZNAME:EST
DTSTART:20241103T060000
END:STANDARD
BEGIN:DAYLIGHT
TZOFFSETFROM:-0500
TZOFFSETTO:-0400
TZNAME:EDT
DTSTART:20250309T070000
END:DAYLIGHT
BEGIN:STANDARD
TZOFFSETFROM:-0400
TZOFFSETTO:-0500
TZNAME:EST
DTSTART:20251102T060000
END:STANDARD
BEGIN:DAYLIGHT
TZOFFSETFROM:-0500
TZOFFSETTO:-0400
TZNAME:EDT
DTSTART:20260308T070000
END:DAYLIGHT
BEGIN:STANDARD
TZOFFSETFROM:-0400
TZOFFSETTO:-0500
TZNAME:EST
DTSTART:20261101T060000
END:STANDARD
END:VTIMEZONE
BEGIN:VEVENT
DTSTART;TZID=America/Toronto:20251129T130000
DTEND;TZID=America/Toronto:20251129T150000
DTSTAMP:20260421T125606
CREATED:20251120T012651Z
LAST-MODIFIED:20251120T012651Z
UID:11976-1764421200-1764428400@animalrightstoronto.com
SUMMARY:The Burrito Project and Winter Clothing Drive & Distribution
DESCRIPTION:We are planning to hand out burritos again (made by Tanya at ALK) and hopefully some winter clothing to our friends who call the streets their home. \nSome of the things we need from all of you are: \n1. Winter clothing donations. All Vegan\, no wool\, fur or down.\n2. $ donations for the burritos\,\n3. Tanya might need help making the burritos and\n4. Help on the day (Saturday November 29) to hand everything out.\n5. A couple of drivers. \nWe can have clothing (only hats\, mitts\, socks\, coats) dropped at Wishbone 600 Bay (but only a few days before\, at the earliest). Let us know when\, what and how much you will be bringing in the Facebook comments. \nOn the day of the event\, we are going to meet at Animal Liberation Kitchen (ALK).  The address is 100 Broadview just south of Queen. Please meet by noon. If you haven’t dropped off your items at Wishbone please bring them with you. \nIf you can donate $ please email transfer to cevrickson@hotmail.com. (Colleen’s email) Please indicate Burrito Project. We will be transparent and keep you updated throughout. We will also announce donations (let us know if you don’t want us to do that)\nLet us know how you would like to help. \nThis is of course also in honour of Leanne and Compassion on the Streets. \nNote: Please check the Facebook event page for updates.
URL:https://animalrightstoronto.com/event/the-burrito-project-and-winter-clothing-drive-distribution/
LOCATION:Animal Liberation Kitchen\, 100 Broadview Ave\, Toronto\, Ontario\, M4M 3H3\, Canada
CATEGORIES:Compassion on the Street
ATTACH;FMTTYPE=image/jpeg:https://animalrightstoronto.com/wp-content/uploads/2025/11/Burrito_project_clothing_drive.jpg
END:VEVENT
BEGIN:VEVENT
DTSTART;TZID=America/Toronto:20231119T130000
DTEND;TZID=America/Toronto:20231119T160000
DTSTAMP:20260421T125606
CREATED:20230906T041440Z
LAST-MODIFIED:20231107T163323Z
UID:1250-1700398800-1700409600@animalrightstoronto.com
SUMMARY:Support & Feed Toronto
DESCRIPTION:Compassion on the Streets and Plant-Based (R)evolution have teamed up once again to help our local vegan restaurants feed our friends who call the streets their home. \nHOW CAN YOU HELP? We can definitely use some donations: $5\, $10\, $20…as much as you can spare\, every little bit helps. Please email transfer to info@plant-based.ca…let us know if it is an anonymous donation as we like to thank our donors on our pages. \nIF YOU WOULD ALSO LIKE TO HELP DURING THE OUTREACH\, then make sure you are part of the Compassion on the Streets FB page. They will be creating an event for the outreach soon. (see cohosts soon for the link) Please don’t mark going here\, (interested is fine) wait for the outreach event to do that. You don’t want to miss it. We will also link to it once it is ready. \nThis time we are returning to Animal Liberation Kitchen who will be partnering up with Vital-Life Vegan to bring delicious\, belly-filling nutritious food to our friends. \nThank you to you all in advance. \nNote: Please check the Facebook event page for updates. \n 
URL:https://animalrightstoronto.com/event/support-feed-toronto/
LOCATION:Downtown Toronto\, Toronto\, CA
CATEGORIES:Compassion on the Street,Plant-Based Revolution
ATTACH;FMTTYPE=image/jpeg:https://animalrightstoronto.com/wp-content/uploads/2023/09/1250_image_383066608_704341941722877_818781957330459850_n.jpg
END:VEVENT
END:VCALENDAR