BEGIN:VCALENDAR
VERSION:2.0
PRODID:-//Animal Rights Toronto - ECPv6.15.20//NONSGML v1.0//EN
CALSCALE:GREGORIAN
METHOD:PUBLISH
X-ORIGINAL-URL:https://animalrightstoronto.com
X-WR-CALDESC:Events for Animal Rights Toronto
REFRESH-INTERVAL;VALUE=DURATION:PT1H
X-Robots-Tag:noindex
X-PUBLISHED-TTL:PT1H
BEGIN:VTIMEZONE
TZID:America/Toronto
BEGIN:DAYLIGHT
TZOFFSETFROM:-0500
TZOFFSETTO:-0400
TZNAME:EDT
DTSTART:20220313T070000
END:DAYLIGHT
BEGIN:STANDARD
TZOFFSETFROM:-0400
TZOFFSETTO:-0500
TZNAME:EST
DTSTART:20221106T060000
END:STANDARD
BEGIN:DAYLIGHT
TZOFFSETFROM:-0500
TZOFFSETTO:-0400
TZNAME:EDT
DTSTART:20230312T070000
END:DAYLIGHT
BEGIN:STANDARD
TZOFFSETFROM:-0400
TZOFFSETTO:-0500
TZNAME:EST
DTSTART:20231105T060000
END:STANDARD
BEGIN:DAYLIGHT
TZOFFSETFROM:-0500
TZOFFSETTO:-0400
TZNAME:EDT
DTSTART:20240310T070000
END:DAYLIGHT
BEGIN:STANDARD
TZOFFSETFROM:-0400
TZOFFSETTO:-0500
TZNAME:EST
DTSTART:20241103T060000
END:STANDARD
BEGIN:DAYLIGHT
TZOFFSETFROM:-0500
TZOFFSETTO:-0400
TZNAME:EDT
DTSTART:20250309T070000
END:DAYLIGHT
BEGIN:STANDARD
TZOFFSETFROM:-0400
TZOFFSETTO:-0500
TZNAME:EST
DTSTART:20251102T060000
END:STANDARD
END:VTIMEZONE
BEGIN:VEVENT
DTSTART;TZID=America/Toronto:20240210T150000
DTEND;TZID=America/Toronto:20240210T160000
DTSTAMP:20260422T145014
CREATED:20240122T191151Z
LAST-MODIFIED:20240122T191151Z
UID:2828-1707577200-1707580800@animalrightstoronto.com
SUMMARY:National Anti-Fur Day Banner Drop Toronto
DESCRIPTION:After the National Anti-Fur Day Banner Drop in Burlington\, join Fur Free Toronto\, Not Your Skin and DxE Toronto for a banner drop in Nathan Philips square beside the iconic Toronto sign. \nHelp us spread the message about the fur industry and why it needs to end. \nPlease dress for the weather. \nIf you have any questions please contact Fur Free Toronto or Not Your Skin. \nShare with friends!\nSee you there! \nNote: Please check the Facebook event page for updates.
URL:https://animalrightstoronto.com/event/national-anti-fur-day-banner-drop-toronto/
LOCATION:Nathan Phillips Square\, 100 Queen Street West\, Toronto\, M5H 2N1\, CA
CATEGORIES:Anti-Fur-Leather-Skin
ATTACH;FMTTYPE=image/jpeg:https://animalrightstoronto.com/wp-content/uploads/2024/01/National_anti-fur_banner_drop_Toronto.jpg
END:VEVENT
BEGIN:VEVENT
DTSTART;TZID=America/Toronto:20240210T110000
DTEND;TZID=America/Toronto:20240210T130000
DTSTAMP:20260422T145014
CREATED:20240116T204952Z
LAST-MODIFIED:20240116T204952Z
UID:2755-1707562800-1707570000@animalrightstoronto.com
SUMMARY:National Anti-Fur Day Banner Drop
DESCRIPTION:Please join National-Anti Fur Day Burlington\, Not Your Skin\, DxE Toronto and Fur Free Toronto for a banner drop to honour National Anti-Fur Day. We will be holding a banner saying “Animals are someone not something. Don’t wear fur” off the 403 overpass. \nWe will be meeting at 5051 Harvester Road in the Tim Hortons parking lot. \nPlease dress for the weather. Your safety is our biggest priority. We will go over safety guidelines before the banner drop when walking about 5 minutes to our destination. \nIf you have any questions or concerns please reach out to Not Your Skin. \nThank you for your participation and hope to see you there. \nNote: Please check the Facebook event page for updates.
URL:https://animalrightstoronto.com/event/national-anti-fur-day-banner-drop/
LOCATION:5051 Harvester Road in the Tim Hortons parking lot\, 5051 Harvester Road\, Burlington\, Ontario\, Canada
CATEGORIES:Anti-Fur-Leather-Skin
ATTACH;FMTTYPE=image/jpeg:https://animalrightstoronto.com/wp-content/uploads/2024/01/National_anti-fur_banner_drop.jpg
END:VEVENT
BEGIN:VEVENT
DTSTART;TZID=America/Toronto:20240209T140000
DTEND;TZID=America/Toronto:20240209T160000
DTSTAMP:20260422T145014
CREATED:20240122T190603Z
LAST-MODIFIED:20240122T190705Z
UID:2824-1707487200-1707494400@animalrightstoronto.com
SUMMARY:National Anti-Fur Day 2024
DESCRIPTION:Join Fur Free Toronto\, We The Free\, Not Your Skin\, End Fur Farming Ontario and DxE Toronto for National Anti-Fur Day 2024. \nWe will be hosting at the intersection of College St & King’s College Rd. (Please type in your GPS 170 College St Toronto). \nWe will be spreading awareness about the fur farming industry and give the general public information to help us end this horrific industry.\nPlease dress for the weather conditions. \nIf you have any questions or concerns please message Fur Free Toronto or Not Your Skin!\nSee you there. \nNote: Please check the Facebook event page for updates. \n 
URL:https://animalrightstoronto.com/event/national-anti-fur-day-2024/
LOCATION:170 College St\, 170 College St\, Toronto\, Ontario\, M5S 3E3\, Canada
CATEGORIES:Anti-Fur-Leather-Skin
ATTACH;FMTTYPE=image/jpeg:https://animalrightstoronto.com/wp-content/uploads/2024/01/National_Antifur_Day_2024.jpg
END:VEVENT
BEGIN:VEVENT
DTSTART;TZID=America/Toronto:20240203T110000
DTEND;TZID=America/Toronto:20240203T120000
DTSTAMP:20260422T145014
CREATED:20240116T204142Z
LAST-MODIFIED:20240201T022339Z
UID:2771-1706958000-1706961600@animalrightstoronto.com
SUMMARY:UGG Protest
DESCRIPTION:Join Not Your Skin\, DxE Toronto and Fur Free Toronto asking UGG to ban the use of sheepskin within their company. \nWe will be meeting at Yorkdale Park then walking into Yorkdale Mall. This is a peaceful protest. We are against any form of harassment or discrimination. \nIf you have any questions or concerns please reach out to Not Your Skin. \nNote: Please check the Facebook event page for updates.
URL:https://animalrightstoronto.com/event/ugg-protest/
LOCATION:Yorkdale Park\, 256 Ranee Ave\, Toronto\, Ontario\, Canada
CATEGORIES:Anti-Fur-Leather-Skin
ATTACH;FMTTYPE=image/jpeg:https://animalrightstoronto.com/wp-content/uploads/2024/01/2771_image_418488532_371470712195972_9115854418031742904_n.jpg
END:VEVENT
BEGIN:VEVENT
DTSTART;TZID=America/Toronto:20240119T130000
DTEND;TZID=America/Toronto:20240119T143000
DTSTAMP:20260422T145014
CREATED:20240109T231822Z
LAST-MODIFIED:20240109T232212Z
UID:2670-1705669200-1705674600@animalrightstoronto.com
SUMMARY:Adidas Head Office Protest
DESCRIPTION:Following our 3 day online actions\, join us as we peacefully protest Adidas head office asking them to ban the sale of kangaroo skin. \nOur meeting location will be posted shortly. \nDress for the weather. Bring water if needed. \nThis is a peaceful protest. We are against any form of discrimination. \nIf you have any questions or concerns please reach out to Not Your Skin. \nThank you for your participation. Please share with friends. \nNote: Please check the Facebook event page for updates. \n 
URL:https://animalrightstoronto.com/event/adidas-head-office-protest/
LOCATION:Adidas Head Office\, 8100 York Regional Rd 27\, Woodbridge\, Ontario\, L4H 3N2\, Canada
CATEGORIES:Anti-Fur-Leather-Skin
ATTACH;FMTTYPE=image/jpeg:https://animalrightstoronto.com/wp-content/uploads/2024/01/2670_image_415514040_365204709489239_4327122288640870371_n.jpg
END:VEVENT
BEGIN:VEVENT
DTSTART;TZID=America/Toronto:20240116T100000
DTEND;TZID=America/Toronto:20240118T170000
DTSTAMP:20260422T145014
CREATED:20240109T232304Z
LAST-MODIFIED:20240109T232422Z
UID:2676-1705399200-1705597200@animalrightstoronto.com
SUMMARY:Adidas 3 Day Online Actions
DESCRIPTION:Take part in a 3 day online action asking Adidas to ban the sale of Kangaroo leather within their business. \nDay 1: Comment Blast on Adidas social medias\nDay 2: Phone Blast calling their customer service line\nDay 3: Email Blast send a pre-written email asking them to ban the sale of Kangaroo skin. \nEach action will be posted at 10:00am EST across FB and Instagram. Please share with your friends. \nMore details of these actions will be posted the day of. \nWe are against any form of oppression or any hate messages. \nIf you have any questions please reach out to Not Your Skin. \nThese actions will be following an in person protest at Adidas head office in Vaughan\, Ontario. That event will be posted and shared. \nNote: Please check the Facebook event page for updates.
URL:https://animalrightstoronto.com/event/adidas-3-day-online-actions/
LOCATION:Online Event
CATEGORIES:Anti-Fur-Leather-Skin
ATTACH;FMTTYPE=image/jpeg:https://animalrightstoronto.com/wp-content/uploads/2024/01/2676_image_415483482_365192299490480_4285159950592293502_n.jpg
END:VEVENT
BEGIN:VEVENT
DTSTART;TZID=America/Toronto:20240113T110000
DTEND;TZID=America/Toronto:20240113T130000
DTSTAMP:20260422T145014
CREATED:20231228T223802Z
LAST-MODIFIED:20240113T080525Z
UID:2569-1705143600-1705150800@animalrightstoronto.com
SUMMARY:Cancelled
DESCRIPTION:Cancelled Due to High Winds. \nAnti-Fur Banner Drop\nPlease join Not Your Skin\, Fur Free Toronto & DxE Toronto for a Banner Drop off of a 403 overpass. We will be holding a banner saying “Animals are someone not something. Don’t Wear Fur” \nWe will be meeting at 5051 Harvest Rd in the Tim Hortons parking lot. \nPlease dress for the weather. Your safety is out biggest priority. We will go over safety guidelines before the banner drop then walking about 5 minutes to our destination. \nIf you have any concerns or questions please reach out to Not Your Skin. \nThank you for you participation and hope to see you there. \nNote: Please check the Facebook event page for updates
URL:https://animalrightstoronto.com/event/anti-fur-banner-drop/
LOCATION:5051 Harvest Rd\, Burlington Tim Hortons Parking Lot\, 5051 Harvest Rd\, Burlington\, Ontario\, Canada
CATEGORIES:Anti-Fur-Leather-Skin
ATTACH;FMTTYPE=image/jpeg:https://animalrightstoronto.com/wp-content/uploads/2023/12/2569_image_410268671_356866566989720_1706459507236001210_n.jpg
END:VEVENT
BEGIN:VEVENT
DTSTART;TZID=America/Toronto:20240106T130000
DTEND;TZID=America/Toronto:20240106T150000
DTSTAMP:20260422T145014
CREATED:20231219T020938Z
LAST-MODIFIED:20231221T173743Z
UID:2475-1704546000-1704553200@animalrightstoronto.com
SUMMARY:Louis Vuitton & Hermes Protest to Ban Real Fur and Exotic Skins
DESCRIPTION:Please join Not Your Skin\, Fur Free Toronto & DxE Toronto to help ban real fur and exotic skin at Louis Vuitton and Hermes.\nLouis Vuitton still uses real fur and exotic skins such as crocodile and ostrich skin.\nHermes does not sell real fur but sells exotic skins.\nThese practices as we know are extremely cruel and need to end.\nThis is a peaceful protest. We are against discrimination and any form of violence. Your safety and the individuals around you are our first priority.\nQR codes will be on site for the public to scan to send a prewritten email to each company.\nSigns will be provided.\nWe ask to dress for the weather and bring water if needed.\nInvite friends and please be on time. See you there! Thank you for your participation.
URL:https://animalrightstoronto.com/event/louis-vuitton-hermes-protest-to-ban-real-fur-and-exotic-skins/
LOCATION:Louis Vuitton Maison Toronto\, 150 Bloor Street West\, Toronto\, M5S 2X9\, CA
CATEGORIES:Anti-Fur-Leather-Skin
ATTACH;FMTTYPE=image/jpeg:https://animalrightstoronto.com/wp-content/uploads/2023/12/Louis_Vuitton_Hermes_protest-e1703180235107.jpg
END:VEVENT
BEGIN:VEVENT
DTSTART;TZID=America/Toronto:20231124T193000
DTEND;TZID=America/Toronto:20231124T193000
DTSTAMP:20260422T145014
CREATED:20231124T141014Z
LAST-MODIFIED:20231124T141354Z
UID:2323-1700854200-1700854200@animalrightstoronto.com
SUMMARY:Online premiere - Ending Real Fur Film
DESCRIPTION:Online! Coinciding with Fur Free Friday … a film about Canada’s fur farming industry from multiple angles. \nPremiering online for the first time and followed by a panel discussion facilitated by Jane Velez-Mitchell that will include Tim Gunn (Project Runway)\, Alissa White-Gluz (Lead Vocalist Arch Enemy\, Activist)\, Taimoor Choudhry (Director\, Producer) and Lesley Fox\, of the amazing Fur Bearers. \nYou can watch the trailer here: https://vimeo.com/776779372/6188f82655 \n➡️ Date: Friday\, November 24th\n➡️ Time: 4:30 PM PST / 7:30 PM EST\n➡️ Watch UnchainedTV.com \nIt’s FREE! \n➡️ RSVP here: https://www.eventbrite.ca/e/ending-real-fur-film-premiere-on-unchainedtv-tickets-743837296377
URL:https://animalrightstoronto.com/event/online-premiere-ending-real-fur-film/
LOCATION:Online Event
CATEGORIES:Anti-Fur-Leather-Skin,Movie Screening
ATTACH;FMTTYPE=image/jpeg:https://animalrightstoronto.com/wp-content/uploads/2023/11/2323_image_404309754_725095369652595_107639572967658053_n.jpg
END:VEVENT
BEGIN:VEVENT
DTSTART;TZID=America/Toronto:20231119T130000
DTEND;TZID=America/Toronto:20231119T150000
DTSTAMP:20260422T145014
CREATED:20231114T001402Z
LAST-MODIFIED:20231114T001732Z
UID:2186-1700398800-1700406000@animalrightstoronto.com
SUMMARY:Louis Vuitton Toronto DROP FUR OR DEAL WITH US PROTEST
DESCRIPTION:LVMH – Louis Vuitton Monet Hennessy is the largest and most influential fashion house in the world with over 75 brands. They are instrumental in promoting real fur clothing as a luxury and status symbol through millions in advertising and celebrity partnerships. If they aren’t stopped they will single handedly revive the fur trade from the brink the animal rights movement has brought it to with over a decade of intense activism. \nLouis Vuitton is notoriously pro-fur and anti-animal rights. That’s why they are the number one global target of a coordinated pressure campaign with weekly protests happening at their stores in dozens of cities in multiple countries all at once! Toronto will be joining the worldwide fight for animals this weekend. \nWhere: Louis Vuitton – 150 Blood St. W.\, Toronto\nWhen: 1-3PM \nCloset TTC: Bay Station \nBring signs\, noisemakers\, whistles\, megaphones\, and your passion to help save animals from blood fashion. \nWe never back down and we always win! \n  \n 
URL:https://animalrightstoronto.com/event/louis-vuitton-toronto-drop-fur-or-deal-with-us-protest/
LOCATION:Louis Vuitton Maison Toronto\, 150 Bloor Street West\, Toronto\, M5S 2X9\, CA
CATEGORIES:Anti-Fur-Leather-Skin
ATTACH;FMTTYPE=image/jpeg:https://animalrightstoronto.com/wp-content/uploads/2023/11/2186_image_401740729_366172679091373_7272451048217199694_n.jpg
END:VEVENT
BEGIN:VEVENT
DTSTART;TZID=America/Toronto:20231103T173000
DTEND;TZID=America/Toronto:20231103T183000
DTSTAMP:20260422T145014
CREATED:20231103T230354Z
LAST-MODIFIED:20231103T230354Z
UID:2086-1699032600-1699036200@animalrightstoronto.com
SUMMARY:Furfree Toronto
DESCRIPTION:Join FurFree Toronto at Nobis
URL:https://animalrightstoronto.com/event/furfree-toronto/
CATEGORIES:Anti-Fur-Leather-Skin
ATTACH;FMTTYPE=image/jpeg:https://animalrightstoronto.com/wp-content/uploads/2023/11/IMG_8273-1.jpeg
END:VEVENT
BEGIN:VEVENT
DTSTART;TZID=America/Toronto:20231022T120000
DTEND;TZID=America/Toronto:20231022T140000
DTSTAMP:20260422T145014
CREATED:20231017T004940Z
LAST-MODIFIED:20231017T005209Z
UID:1859-1697976000-1697983200@animalrightstoronto.com
SUMMARY:LVMH & Hermes Protest
DESCRIPTION:Please join us! Starting at Louis Vuitton Mansion protesting their use of real fur with in their company. We will then make our way down the street to Hermes’ who are still using crocodile skins for handbags.\nDress for the weather.\nBring water if needed.\nLet’s get as loud as we can for the animals! \nSee you all there! ✊ \n  \n 
URL:https://animalrightstoronto.com/event/lvmh-hermes-protest/
LOCATION:Louis Vuitton Maison Toronto\, 150 Bloor Street West\, Toronto\, M5S 2X9\, CA
CATEGORIES:Anti-Fur-Leather-Skin
ATTACH;FMTTYPE=image/jpeg:https://animalrightstoronto.com/wp-content/uploads/2023/10/1859_image_391731736_703740015121464_7380551638108777689_n.jpg
END:VEVENT
BEGIN:VEVENT
DTSTART;TZID=America/Toronto:20231015T130000
DTEND;TZID=America/Toronto:20231015T150000
DTSTAMP:20260422T145014
CREATED:20231014T153549Z
LAST-MODIFIED:20231014T153758Z
UID:1834-1697374800-1697382000@animalrightstoronto.com
SUMMARY:Protesting Adidas re Kangaroo skin & Nobis re fur
DESCRIPTION:Join us as we protest two fashion companies. We will be starting at Adidas as they are currently using Kangaroo leather for shoes. Then we will make our way to Nobis to protest their use of real fur on their jackets.  \nFollowing our event please stick around for an Anonymous for the Voiceless Cube of Truth from 5-8 at Dundas West Subway Station.  \n https://facebook.com/events/s/cube-of-truth-toronto-october-/721382116570251/
URL:https://animalrightstoronto.com/event/protesting-adidas-re-kangaroo-skin-nobis-re-fur/
LOCATION:Adidas\, 389 Queen Street West\, Toronto\, Ontario\, Canada
CATEGORIES:Anti-Fur-Leather-Skin
ATTACH;FMTTYPE=image/jpeg:https://animalrightstoronto.com/wp-content/uploads/2023/10/IMG_4013.jpeg
END:VEVENT
END:VCALENDAR