BEGIN:VCALENDAR
VERSION:2.0
PRODID:-//Animal Rights Toronto - ECPv6.15.20//NONSGML v1.0//EN
CALSCALE:GREGORIAN
METHOD:PUBLISH
X-WR-CALNAME:Animal Rights Toronto
X-ORIGINAL-URL:https://animalrightstoronto.com
X-WR-CALDESC:Events for Animal Rights Toronto
REFRESH-INTERVAL;VALUE=DURATION:PT1H
X-Robots-Tag:noindex
X-PUBLISHED-TTL:PT1H
BEGIN:VTIMEZONE
TZID:America/Toronto
BEGIN:DAYLIGHT
TZOFFSETFROM:-0500
TZOFFSETTO:-0400
TZNAME:EDT
DTSTART:20240310T070000
END:DAYLIGHT
BEGIN:STANDARD
TZOFFSETFROM:-0400
TZOFFSETTO:-0500
TZNAME:EST
DTSTART:20241103T060000
END:STANDARD
BEGIN:DAYLIGHT
TZOFFSETFROM:-0500
TZOFFSETTO:-0400
TZNAME:EDT
DTSTART:20250309T070000
END:DAYLIGHT
BEGIN:STANDARD
TZOFFSETFROM:-0400
TZOFFSETTO:-0500
TZNAME:EST
DTSTART:20251102T060000
END:STANDARD
BEGIN:DAYLIGHT
TZOFFSETFROM:-0500
TZOFFSETTO:-0400
TZNAME:EDT
DTSTART:20260308T070000
END:DAYLIGHT
BEGIN:STANDARD
TZOFFSETFROM:-0400
TZOFFSETTO:-0500
TZNAME:EST
DTSTART:20261101T060000
END:STANDARD
END:VTIMEZONE
BEGIN:VEVENT
DTSTART;TZID=America/Toronto:20251228T103000
DTEND;TZID=America/Toronto:20251228T170000
DTSTAMP:20260422T145809
CREATED:20251228T150108Z
LAST-MODIFIED:20251228T150536Z
UID:12351-1766917800-1766941200@animalrightstoronto.com
SUMMARY:Protest HSG Fur Sale in Toronto
DESCRIPTION:We’ll be outside from 10am in Scarboro\, Ontario at HSG Furs protesting their sale of animal torture.  \nLocation: 290 Nantucket Blvd\, Toronto\, ON M1P 2P4\, Canada \nJoin us if you can\, at short notice\, for a peaceful but loud protest. \nEvent Page Here
URL:https://animalrightstoronto.com/event/protest-hsg-fur-sale-in-toronto/
LOCATION:290 Nantucket Blvd\, 290 Nantucket Blvd\, Toronto\, Canada
CATEGORIES:Anti-Fur-Leather-Skin
ATTACH;FMTTYPE=image/jpeg:https://animalrightstoronto.com/wp-content/uploads/2025/12/IMG_7137.jpeg
END:VEVENT
END:VCALENDAR