BEGIN:VCALENDAR
VERSION:2.0
PRODID:-//Animal Rights Toronto - ECPv6.15.20//NONSGML v1.0//EN
CALSCALE:GREGORIAN
METHOD:PUBLISH
X-ORIGINAL-URL:https://animalrightstoronto.com
X-WR-CALDESC:Events for Animal Rights Toronto
REFRESH-INTERVAL;VALUE=DURATION:PT1H
X-Robots-Tag:noindex
X-PUBLISHED-TTL:PT1H
BEGIN:VTIMEZONE
TZID:America/Toronto
BEGIN:DAYLIGHT
TZOFFSETFROM:-0500
TZOFFSETTO:-0400
TZNAME:EDT
DTSTART:20240310T070000
END:DAYLIGHT
BEGIN:STANDARD
TZOFFSETFROM:-0400
TZOFFSETTO:-0500
TZNAME:EST
DTSTART:20241103T060000
END:STANDARD
BEGIN:DAYLIGHT
TZOFFSETFROM:-0500
TZOFFSETTO:-0400
TZNAME:EDT
DTSTART:20250309T070000
END:DAYLIGHT
BEGIN:STANDARD
TZOFFSETFROM:-0400
TZOFFSETTO:-0500
TZNAME:EST
DTSTART:20251102T060000
END:STANDARD
BEGIN:DAYLIGHT
TZOFFSETFROM:-0500
TZOFFSETTO:-0400
TZNAME:EDT
DTSTART:20260308T070000
END:DAYLIGHT
BEGIN:STANDARD
TZOFFSETFROM:-0400
TZOFFSETTO:-0500
TZNAME:EST
DTSTART:20261101T060000
END:STANDARD
END:VTIMEZONE
BEGIN:VEVENT
DTSTART;TZID=America/Toronto:20250929T160000
DTEND;TZID=America/Toronto:20250929T173000
DTSTAMP:20260424T083508
CREATED:20250923T222441Z
LAST-MODIFIED:20250928T193616Z
UID:10951-1759161600-1759167000@animalrightstoronto.com
SUMMARY:Loro Piano Protest Before "Ending Real Fur" Film Screening
DESCRIPTION:Join us at 111 Bloor Street W. to continue the worldwide protests against Loro Piana and their use of animal skins. \nThis is an event to also support the screening of the Ending Real Fur film which will play at Wishbone at 6pm \nPicture credit to Animal Activism Collective at one of their protests of LP. \nNote: Please check the Facebook event page for updates.
URL:https://animalrightstoronto.com/event/loro-piano-protest-before-ending-real-fur-film-screening/
LOCATION:Loro Piano\, 111 Bloor Street West\, Toronto\, Ontario\, Canada
CATEGORIES:Anti-Fur-Leather-Skin
ATTACH;FMTTYPE=image/jpeg:https://animalrightstoronto.com/wp-content/uploads/2025/09/Loro_Piano_protest.jpg
END:VEVENT
END:VCALENDAR