BEGIN:VCALENDAR
VERSION:2.0
PRODID:-//Animal Rights Toronto - ECPv6.15.20//NONSGML v1.0//EN
CALSCALE:GREGORIAN
METHOD:PUBLISH
X-WR-CALNAME:Animal Rights Toronto
X-ORIGINAL-URL:https://animalrightstoronto.com
X-WR-CALDESC:Events for Animal Rights Toronto
REFRESH-INTERVAL;VALUE=DURATION:PT1H
X-Robots-Tag:noindex
X-PUBLISHED-TTL:PT1H
BEGIN:VTIMEZONE
TZID:America/Toronto
BEGIN:DAYLIGHT
TZOFFSETFROM:-0500
TZOFFSETTO:-0400
TZNAME:EDT
DTSTART:20240310T070000
END:DAYLIGHT
BEGIN:STANDARD
TZOFFSETFROM:-0400
TZOFFSETTO:-0500
TZNAME:EST
DTSTART:20241103T060000
END:STANDARD
BEGIN:DAYLIGHT
TZOFFSETFROM:-0500
TZOFFSETTO:-0400
TZNAME:EDT
DTSTART:20250309T070000
END:DAYLIGHT
BEGIN:STANDARD
TZOFFSETFROM:-0400
TZOFFSETTO:-0500
TZNAME:EST
DTSTART:20251102T060000
END:STANDARD
BEGIN:DAYLIGHT
TZOFFSETFROM:-0500
TZOFFSETTO:-0400
TZNAME:EDT
DTSTART:20260308T070000
END:DAYLIGHT
BEGIN:STANDARD
TZOFFSETFROM:-0400
TZOFFSETTO:-0500
TZNAME:EST
DTSTART:20261101T060000
END:STANDARD
END:VTIMEZONE
BEGIN:VEVENT
DTSTART;TZID=America/Toronto:20251220T180000
DTEND;TZID=America/Toronto:20251220T220000
DTSTAMP:20260421T103523
CREATED:20251119T223437Z
LAST-MODIFIED:20251119T223949Z
UID:11961-1766253600-1766268000@animalrightstoronto.com
SUMMARY:Cozy Compassion Bash
DESCRIPTION:A Cozy Community Holiday Thank-You Potluck. \nLet’s gather for warm hearts\, dishes and company as we recognize the passion and dedication of our animal rights volunteers.\nJoin us as our local AR organizations sponsor an evening to thank all of you for all the heart and passion you continually put out there for animals. \nIf possible\, please bring a dish to share. The organizers will provide a delicious cake from Caked Coffee as well as drinks.\nWe will hold it at the new room at Wishbone\, entrance on Dundas\, just west of the corner of Bay and Dundas. 108 Dundas. \nNote: Please check the Facebook event page for updates.
URL:https://animalrightstoronto.com/event/cozy-compassion-bash/
LOCATION:The Lab | Vegutainment Centre\, 108 Dundas St W\, 2nd Floor\, Toronto\, Ontario\, M5G 1C3\, Canada
CATEGORIES:Vegan Social Event
ATTACH;FMTTYPE=image/jpeg:https://animalrightstoronto.com/wp-content/uploads/2025/11/cozy_compassion_bash.jpg
END:VEVENT
END:VCALENDAR