BEGIN:VCALENDAR
VERSION:2.0
PRODID:-//Animal Rights Toronto - ECPv6.15.20//NONSGML v1.0//EN
CALSCALE:GREGORIAN
METHOD:PUBLISH
X-WR-CALNAME:Animal Rights Toronto
X-ORIGINAL-URL:https://animalrightstoronto.com
X-WR-CALDESC:Events for Animal Rights Toronto
REFRESH-INTERVAL;VALUE=DURATION:PT1H
X-Robots-Tag:noindex
X-PUBLISHED-TTL:PT1H
BEGIN:VTIMEZONE
TZID:America/Toronto
BEGIN:DAYLIGHT
TZOFFSETFROM:-0500
TZOFFSETTO:-0400
TZNAME:EDT
DTSTART:20240310T070000
END:DAYLIGHT
BEGIN:STANDARD
TZOFFSETFROM:-0400
TZOFFSETTO:-0500
TZNAME:EST
DTSTART:20241103T060000
END:STANDARD
BEGIN:DAYLIGHT
TZOFFSETFROM:-0500
TZOFFSETTO:-0400
TZNAME:EDT
DTSTART:20250309T070000
END:DAYLIGHT
BEGIN:STANDARD
TZOFFSETFROM:-0400
TZOFFSETTO:-0500
TZNAME:EST
DTSTART:20251102T060000
END:STANDARD
BEGIN:DAYLIGHT
TZOFFSETFROM:-0500
TZOFFSETTO:-0400
TZNAME:EDT
DTSTART:20260308T070000
END:DAYLIGHT
BEGIN:STANDARD
TZOFFSETFROM:-0400
TZOFFSETTO:-0500
TZNAME:EST
DTSTART:20261101T060000
END:STANDARD
END:VTIMEZONE
BEGIN:VEVENT
DTSTART;TZID=America/Toronto:20251216T180000
DTEND;TZID=America/Toronto:20251216T190000
DTSTAMP:20260421T103520
CREATED:20251216T222446Z
LAST-MODIFIED:20251216T222628Z
UID:12251-1765908000-1765911600@animalrightstoronto.com
SUMMARY:Horse Export - Candlelight Vigil
DESCRIPTION:Animal Justice is holding vigils in 11 cities across the country this evening to mark the 4th anniversary of the Liberal Party’s promise to ban the export of live horses for slaughter. \nPlease join in one of the vigils for the horses lost to live exports: https://bit.ly/3Y3DkCn \nToronto action: 409 Parliament St\, Toronto\, ON M5A\, Canada \nAnd take VIRTUAL ACTION by calling your MP today to let them know that horses dying on their way to Japan to be fattened up and slaughtered for sashimi is NOT acceptable to Canadians.  \nYou can ask them to raise the issue of live horse exports with the Prime Minister Mark Carney & Agriculture Minister Heath MacDonald \nYou can find the contact details for your MP here: https://www.ourcommons.ca/members/en \n#CandlelightForTheHorses #EndLiveExports
URL:https://animalrightstoronto.com/event/horse-export-candlelight-vigil/
LOCATION:Ontario
ATTACH;FMTTYPE=image/jpeg:https://animalrightstoronto.com/wp-content/uploads/2025/12/IMG_6760.jpeg
END:VEVENT
END:VCALENDAR