BEGIN:VCALENDAR
VERSION:2.0
PRODID:-//Animal Rights Toronto - ECPv6.15.20//NONSGML v1.0//EN
CALSCALE:GREGORIAN
METHOD:PUBLISH
X-WR-CALNAME:Animal Rights Toronto
X-ORIGINAL-URL:https://animalrightstoronto.com
X-WR-CALDESC:Events for Animal Rights Toronto
REFRESH-INTERVAL;VALUE=DURATION:PT1H
X-Robots-Tag:noindex
X-PUBLISHED-TTL:PT1H
BEGIN:VTIMEZONE
TZID:America/Toronto
BEGIN:DAYLIGHT
TZOFFSETFROM:-0500
TZOFFSETTO:-0400
TZNAME:EDT
DTSTART:20240310T070000
END:DAYLIGHT
BEGIN:STANDARD
TZOFFSETFROM:-0400
TZOFFSETTO:-0500
TZNAME:EST
DTSTART:20241103T060000
END:STANDARD
BEGIN:DAYLIGHT
TZOFFSETFROM:-0500
TZOFFSETTO:-0400
TZNAME:EDT
DTSTART:20250309T070000
END:DAYLIGHT
BEGIN:STANDARD
TZOFFSETFROM:-0400
TZOFFSETTO:-0500
TZNAME:EST
DTSTART:20251102T060000
END:STANDARD
BEGIN:DAYLIGHT
TZOFFSETFROM:-0500
TZOFFSETTO:-0400
TZNAME:EDT
DTSTART:20260308T070000
END:DAYLIGHT
BEGIN:STANDARD
TZOFFSETFROM:-0400
TZOFFSETTO:-0500
TZNAME:EST
DTSTART:20261101T060000
END:STANDARD
END:VTIMEZONE
BEGIN:VEVENT
DTSTART;TZID=America/Toronto:20251122T120000
DTEND;TZID=America/Toronto:20251127T180000
DTSTAMP:20260419T091853
CREATED:20251120T003933Z
LAST-MODIFIED:20251120T003933Z
UID:11967-1763812800-1764266400@animalrightstoronto.com
SUMMARY:5th Annual Festive Fundraiser for Pigs & Pals
DESCRIPTION:Hello ! And welcome to our 5th Annual ‘Festive Fundraiser for Pigs and Pals’ benefitting the souls at Ruby Ranch Pig & Farm Animal Sanctuary. \nThe event will be held online\, in this event page\, and will be hosted by Sherry Burnett and myself\, Colleen Woelfle-Drake.\nFor each donation to ‘Ruby Ranch’ you will receive tickets to virtually place ‘in the hat’ for a selection of items. \n** PLEASE NOTE – DUE TO ISSUES WITH CROSS BORDER SHIPPING\, WE ARE UNABLE TO POST PRIZES TO ADDRESSES OUTSIDE OF CANADA THIS YEAR. ** \nDonation – Ticket allotment\n$5 donated – 1 ticket\n$10 donated – 3 tickets\n$15 donated – 5 tickets\n$20 donated – 7 tickets\n$25 donated – 9 tickets\n$30 donated – 11 tickets\n$35 donated – 13 tickets\n$40 donated – 15 tickets\n$45 donated – 17 tickets\n$50 donated – 19 tickets \nYOU pick the item/s to place your ticket/s on. \nPut them all in one… OR… spread them out ! It’s your choice ! (the items will be numbered) \nA fun and caring way to help fundraise for a wonderful sanctuary and do a little holiday shopping at the same time ! \nThe draws will be held on Thursday\, November 27th after the close of the event\, and the items will be sent out on the following Monday\, Dec. 1st and Tuesday\, Dec. 2nd. \nIf you’re in the Kitchener-Waterloo\, Cambridge\, or Guelph area\, pick up or delivery could possibly be arranged between Dec. 1-7 (Pick up would be in Hespeler/Cambridge.) \nDonations via etransfer or PayPal F/F to sherry@rubyranch.ca \nPlease PM Sherry or myself once your donation has been made so that we may put your tickets ‘in the hats’. \nThank you for your support !\n❤ ❤ ❤
URL:https://animalrightstoronto.com/event/5th-annual-festive-fundraiser-for-pigs-pals/
LOCATION:Online Event
CATEGORIES:Animal Sanctuaries,Fundraiser
ATTACH;FMTTYPE=image/jpeg:https://animalrightstoronto.com/wp-content/uploads/2025/11/pigs_fundraiser.jpg
END:VEVENT
END:VCALENDAR