BEGIN:VCALENDAR
VERSION:2.0
PRODID:-//Animal Rights Toronto - ECPv6.15.20//NONSGML v1.0//EN
CALSCALE:GREGORIAN
METHOD:PUBLISH
X-WR-CALNAME:Animal Rights Toronto
X-ORIGINAL-URL:https://animalrightstoronto.com
X-WR-CALDESC:Events for Animal Rights Toronto
REFRESH-INTERVAL;VALUE=DURATION:PT1H
X-Robots-Tag:noindex
X-PUBLISHED-TTL:PT1H
BEGIN:VTIMEZONE
TZID:America/Toronto
BEGIN:DAYLIGHT
TZOFFSETFROM:-0500
TZOFFSETTO:-0400
TZNAME:EDT
DTSTART:20240310T070000
END:DAYLIGHT
BEGIN:STANDARD
TZOFFSETFROM:-0400
TZOFFSETTO:-0500
TZNAME:EST
DTSTART:20241103T060000
END:STANDARD
BEGIN:DAYLIGHT
TZOFFSETFROM:-0500
TZOFFSETTO:-0400
TZNAME:EDT
DTSTART:20250309T070000
END:DAYLIGHT
BEGIN:STANDARD
TZOFFSETFROM:-0400
TZOFFSETTO:-0500
TZNAME:EST
DTSTART:20251102T060000
END:STANDARD
BEGIN:DAYLIGHT
TZOFFSETFROM:-0500
TZOFFSETTO:-0400
TZNAME:EDT
DTSTART:20260308T070000
END:DAYLIGHT
BEGIN:STANDARD
TZOFFSETFROM:-0400
TZOFFSETTO:-0500
TZNAME:EST
DTSTART:20261101T060000
END:STANDARD
END:VTIMEZONE
BEGIN:VEVENT
DTSTART;TZID=America/Toronto:20251111T130000
DTEND;TZID=America/Toronto:20251125T130000
DTSTAMP:20260421T054653
CREATED:20251112T014021Z
LAST-MODIFIED:20251112T014021Z
UID:11855-1762866000-1764075600@animalrightstoronto.com
SUMMARY:CBC Drop the Dairy Contest - Online Animal Justice Mobilization Teams
DESCRIPTION:Tell CBC to Call Off their Canadian Dairy Contest! \nCBC just launched their “Bake it with Canadian Dairy Contest”. They’re sharing recipes that call for dairy products as a main ingredient and are asking members of the public to enter their contest for a chance to win one of five prizes of Canadian dairy for a year.\nThe Canadian dairy industry carries out terrible abuses such as separating mothers and babies\, limiting the cows’ movement by tying them to stalls\, and killing male babies who are of no use to dairy farmers. \nThis is where you come in! Send a message to CBC\, letting them know the cruelty and harms behind their contest and tell them to call it off! \nOn the CBC contact page\, use the drop-down menu to choose “content” and in the form explain why you think they should call off their contest. \nFeel free to use one or multiple of the following talking points\, but please change up the wording. Bonus points if you can add your own personal touch so that your email stands out! \n1. Behind every glass of milk is a mother cow who endures repeated cycles of pregnancy and separation from her calves. Newborns are taken away within hours so her milk can be sold—a practice that causes immense distress for both mother and baby. Newborn male calves are often killed because they’re of no use to the dairy industry.\n2. The dairy industry treats living beings like production machines. When cows’ milk output declines\, they’re sent to slaughter\, often after years of confinement and exhaustion. It’s a cycle of exploitation hidden behind pastoral imagery and “family farm” marketing.\n3. The dairy industry isn’t just cruel to cows—it’s built on systems of inequality. Most people of colour are lactose intolerant\, yet Western diets and marketing still push dairy as a “nutritional necessity.” This reflects a long history of racism in food policy that centers white\, Eurocentric eating habits while ignoring the biological diversity of other communities. \nPlease note that the link to the contact page can’t be shared due to FB restrictions around media. You can find the CBC contact page on their website under “submit feedback” at the bottom of the home page! – I have included the link as well as a scan code to get you to the right page. Just follow the instructions and you should be good to go! \nLets ensure that CBC knows of our displeasure. Let’s begin!
URL:https://animalrightstoronto.com/event/cbc-drop-the-dairy-contest-online-animal-justice-mobilization-teams/
LOCATION:Online Event
CATEGORIES:Online Action,Pressure Campaign
ATTACH;FMTTYPE=image/jpeg:https://animalrightstoronto.com/wp-content/uploads/2025/11/CBC_drop_dairy_contest.jpg
END:VEVENT
BEGIN:VEVENT
DTSTART;TZID=America/Toronto:20251121T100000
DTEND;TZID=America/Toronto:20251121T120000
DTSTAMP:20260421T054653
CREATED:20251120T061417Z
LAST-MODIFIED:20251120T061417Z
UID:11980-1763719200-1763726400@animalrightstoronto.com
SUMMARY:Project Livestream #5 Toronto
DESCRIPTION:A campaign by itsMelandSteve – you can find them on IG and FB.   \nHere in Toronto\, David Magna aka the40yearoldvegan is a good contact to learn more.  \nOn Friday we’ll be at St Helen’s Meat Packers.
URL:https://animalrightstoronto.com/event/project-livestream-5-toronto/
LOCATION:St. Helens Meat Packers Ltd\, 1-3 Glen Scarlett Rd.\, Toronto\, Ontario\, M6N 1P5\, Canada
ATTACH;FMTTYPE=image/jpeg:https://animalrightstoronto.com/wp-content/uploads/2025/11/IMG_5690.jpeg
END:VEVENT
BEGIN:VEVENT
DTSTART;TZID=America/Toronto:20251121T154500
DTEND;TZID=America/Toronto:20251123T131500
DTSTAMP:20260421T054653
CREATED:20251114T040528Z
LAST-MODIFIED:20251114T040528Z
UID:11887-1763739900-1763903700@animalrightstoronto.com
SUMMARY:The Vegan Fashion Show
DESCRIPTION:Join us at The Vegan Fashion Show in partnership with the National Women’s Show Toronto November 21st – 23rd. Catch us on the main stage for the runway and at booth 1633 for our charitable and educational nonprofit work. We’re making it easier than ever to dress compassionately. Learn about the latest innovative next gen materials made from tech and plants. See our carefully curated Canadian designers and brands leading the way to kinder\, more sustainable fashion. \nFriday – Euroglam and Wuxly at 3:45pm\nSaturday – Diane Kroe and No. 49 Handbags at 11:15am\nSunday – Noize at 12:45pm \nStay tuned to our social media (mainly Instagram) to enter giveaways from this show’s sponsors\, Plantasia Natural Foods\, Vibe Kale Chips\, and Carmela’s Teff Kitchen Crackers. \nBring a friend and save $5 Use code TORFRIEND25 to purchase 2 tickets: https://nationalwomenshow.com/shows/toronto \nCan’t wait to see the show? Get 10% off Noize jackets with code VIKKI10. Get 20% off No.49 Handbags with code VFS20. Visit our Vegan-Eco-Wellness affiliate shop to get special discounts to other brands you’ll love while supporting our charitable work: https://www.theveganfashionshow.org/shop \nThe Vegan Fashion Show is volunteer-run and proudly supports Animal Justice\, the organization leading the legal fight for animal protection in Canada. \nJim Orgill Photography. \nNote: Please check the Facebook event page for updates.
URL:https://animalrightstoronto.com/event/the-vegan-fashion-show/
LOCATION:Metro Toronto Convention Centre\, 255 Front St W\, Toronto\, Ontario\, Canada
CATEGORIES:Vegan Social Event
ATTACH;FMTTYPE=image/jpeg:https://animalrightstoronto.com/wp-content/uploads/2025/11/Vegn_fashion_show.jpg
END:VEVENT
END:VCALENDAR