BEGIN:VCALENDAR
VERSION:2.0
PRODID:-//Animal Rights Toronto - ECPv6.15.20//NONSGML v1.0//EN
CALSCALE:GREGORIAN
METHOD:PUBLISH
X-WR-CALNAME:Animal Rights Toronto
X-ORIGINAL-URL:https://animalrightstoronto.com
X-WR-CALDESC:Events for Animal Rights Toronto
REFRESH-INTERVAL;VALUE=DURATION:PT1H
X-Robots-Tag:noindex
X-PUBLISHED-TTL:PT1H
BEGIN:VTIMEZONE
TZID:America/Toronto
BEGIN:DAYLIGHT
TZOFFSETFROM:-0500
TZOFFSETTO:-0400
TZNAME:EDT
DTSTART:20240310T070000
END:DAYLIGHT
BEGIN:STANDARD
TZOFFSETFROM:-0400
TZOFFSETTO:-0500
TZNAME:EST
DTSTART:20241103T060000
END:STANDARD
BEGIN:DAYLIGHT
TZOFFSETFROM:-0500
TZOFFSETTO:-0400
TZNAME:EDT
DTSTART:20250309T070000
END:DAYLIGHT
BEGIN:STANDARD
TZOFFSETFROM:-0400
TZOFFSETTO:-0500
TZNAME:EST
DTSTART:20251102T060000
END:STANDARD
BEGIN:DAYLIGHT
TZOFFSETFROM:-0500
TZOFFSETTO:-0400
TZNAME:EDT
DTSTART:20260308T070000
END:DAYLIGHT
BEGIN:STANDARD
TZOFFSETFROM:-0400
TZOFFSETTO:-0500
TZNAME:EST
DTSTART:20261101T060000
END:STANDARD
END:VTIMEZONE
BEGIN:VEVENT
DTSTART;TZID=America/Toronto:20251103T100000
DTEND;TZID=America/Toronto:20251103T183000
DTSTAMP:20260421T055617
CREATED:20251021T203106Z
LAST-MODIFIED:20251021T203106Z
UID:11598-1762164000-1762194600@animalrightstoronto.com
SUMMARY:A Culinary Uprising: The Story of Bloodroot
DESCRIPTION:This 82 min documentary celebrates Selma Miriam and Noel Furie and one of the last feminist restaurant/bookstores in the nation. Sone 48 years it has built\, nourished and nurtured the community they created  in Bridgeport\, CT. Screenings are at 10am and 5 pm International Vegan Film Festival.
URL:https://animalrightstoronto.com/event/a-culinary-uprising-the-story-of-bloodroot/
LOCATION:Ontario
CATEGORIES:Calling All Vegans,Film Screening
ATTACH;FMTTYPE=image/png:https://animalrightstoronto.com/wp-content/uploads/2025/10/ACU-IVFF-NEW.png
END:VEVENT
BEGIN:VEVENT
DTSTART;TZID=America/Toronto:20251103T100000
DTEND;TZID=America/Toronto:20251103T220000
DTSTAMP:20260421T055617
CREATED:20251103T165331Z
LAST-MODIFIED:20251103T165331Z
UID:11755-1762164000-1762207200@animalrightstoronto.com
SUMMARY:International Vegan Film Festival - Encore!
DESCRIPTION:On Monday\, you can drop in to 108 Dundas Street\, anka The Lab\, and enjoy more films.  \nThe event is free! \nThere are two timeouts\, but you’re welcome to drop in anytime.  \nThis is a collaboration between Wishbone Animal Rights Lab and theIVFF.ca
URL:https://animalrightstoronto.com/event/international-vegan-film-festival-encore/
LOCATION:The Lab | Vegutainment Centre\, 108 Dundas St W\, 2nd Floor\, Toronto\, Ontario\, M5G 1C3\, Canada
ATTACH;FMTTYPE=image/jpeg:https://animalrightstoronto.com/wp-content/uploads/2025/11/IMG_4994.jpeg
END:VEVENT
END:VCALENDAR