BEGIN:VCALENDAR
VERSION:2.0
PRODID:-//Animal Rights Toronto - ECPv6.15.20//NONSGML v1.0//EN
CALSCALE:GREGORIAN
METHOD:PUBLISH
X-WR-CALNAME:Animal Rights Toronto
X-ORIGINAL-URL:https://animalrightstoronto.com
X-WR-CALDESC:Events for Animal Rights Toronto
REFRESH-INTERVAL;VALUE=DURATION:PT1H
X-Robots-Tag:noindex
X-PUBLISHED-TTL:PT1H
BEGIN:VTIMEZONE
TZID:America/Toronto
BEGIN:DAYLIGHT
TZOFFSETFROM:-0500
TZOFFSETTO:-0400
TZNAME:EDT
DTSTART:20240310T070000
END:DAYLIGHT
BEGIN:STANDARD
TZOFFSETFROM:-0400
TZOFFSETTO:-0500
TZNAME:EST
DTSTART:20241103T060000
END:STANDARD
BEGIN:DAYLIGHT
TZOFFSETFROM:-0500
TZOFFSETTO:-0400
TZNAME:EDT
DTSTART:20250309T070000
END:DAYLIGHT
BEGIN:STANDARD
TZOFFSETFROM:-0400
TZOFFSETTO:-0500
TZNAME:EST
DTSTART:20251102T060000
END:STANDARD
BEGIN:DAYLIGHT
TZOFFSETFROM:-0500
TZOFFSETTO:-0400
TZNAME:EDT
DTSTART:20260308T070000
END:DAYLIGHT
BEGIN:STANDARD
TZOFFSETFROM:-0400
TZOFFSETTO:-0500
TZNAME:EST
DTSTART:20261101T060000
END:STANDARD
END:VTIMEZONE
BEGIN:VEVENT
DTSTART;TZID=America/Toronto:20251011T120000
DTEND;TZID=America/Toronto:20251011T130000
DTSTAMP:20260423T071530
CREATED:20251006T062736Z
LAST-MODIFIED:20251006T062816Z
UID:11225-1760184000-1760187600@animalrightstoronto.com
SUMMARY:🔥 NATIONWIDE SOBEYS PROTESTS: TIME TO TURN UP THE HEAT! 🔥
DESCRIPTION:IT’S TIME TO TURN UP THE HEAT! \nSobeys is still supporting cruel cage confinement for hens—despite growing public outcry and the cage-free commitments made by their leadership team. \nJoin us outside Sobeys to stand up for animals and call on them to go 100% cage-free. Together\, we will tell Sobeys they must do better\, and show that compassionate consumers won’t accept cruelty on grocery store shelves. \nIt’s time to escalate the pressure. This demonstration will include chanting and megaphone-led action—because the hens need our voices now more than ever. \nWhat to Expect:\n🔊 Chanting and megaphone-led action\n📣 Peaceful protest with signs and public outreach\n🤝 Energizing community spirit \nBring your voice\, and your passion. Let’s send a clear message: It’s time for Sobeys to make cages history!
URL:https://animalrightstoronto.com/event/%f0%9f%94%a5-nationwide-sobeys-protests-time-to-turn-up-the-heat-%f0%9f%94%a5/
LOCATION:Sobeys – 22 Fort York Blvd\, 22 Fort York Blvd\, Toronto\, Ontario\, M5V 3Z2\, Canada
CATEGORIES:Animal Justice
ATTACH;FMTTYPE=image/jpeg:https://animalrightstoronto.com/wp-content/uploads/2025/10/IMG_3172.jpeg
ORGANIZER;CN="Animal Justice":MAILTO:info@animaljustice.ca
END:VEVENT
BEGIN:VEVENT
DTSTART;TZID=America/Toronto:20251011T153000
DTEND;TZID=America/Toronto:20251011T183000
DTSTAMP:20260423T071530
CREATED:20251010T195744Z
LAST-MODIFIED:20251010T225839Z
UID:11332-1760196600-1760207400@animalrightstoronto.com
SUMMARY:Marineland Protest - Save the Belugas
DESCRIPTION:We’ll be at Marineland tomorrow\, Saturday 11 Oct\, 3:30 to 6:30pm… FB event page: \nhttps://www.facebook.com/events/s/marineland-protest-save-the-be/812682314781648/ \nWhile many groups seem resigned to letting the Holer family euthanize the belugas\, others have hope. All levels of government are quiet\, yet they’re the ones who could bring together experts to decide and force the best solution for the belugas. The protest aims to highlight solutions while calling on Marineland to let them live.
URL:https://animalrightstoronto.com/event/marineland-protest-save-the-belugas/
LOCATION:Marineland\, 7657 Portage Road\, Niagara\, Ontario\, Canada
CATEGORIES:Animal Justice,Protest or Rally
ATTACH;FMTTYPE=image/jpeg:https://animalrightstoronto.com/wp-content/uploads/2025/10/Marineland_save_the_belugas.jpg
END:VEVENT
END:VCALENDAR