BEGIN:VCALENDAR
VERSION:2.0
PRODID:-//Animal Rights Toronto - ECPv6.15.20//NONSGML v1.0//EN
CALSCALE:GREGORIAN
METHOD:PUBLISH
X-WR-CALNAME:Animal Rights Toronto
X-ORIGINAL-URL:https://animalrightstoronto.com
X-WR-CALDESC:Events for Animal Rights Toronto
REFRESH-INTERVAL;VALUE=DURATION:PT1H
X-Robots-Tag:noindex
X-PUBLISHED-TTL:PT1H
BEGIN:VTIMEZONE
TZID:America/Toronto
BEGIN:DAYLIGHT
TZOFFSETFROM:-0500
TZOFFSETTO:-0400
TZNAME:EDT
DTSTART:20240310T070000
END:DAYLIGHT
BEGIN:STANDARD
TZOFFSETFROM:-0400
TZOFFSETTO:-0500
TZNAME:EST
DTSTART:20241103T060000
END:STANDARD
BEGIN:DAYLIGHT
TZOFFSETFROM:-0500
TZOFFSETTO:-0400
TZNAME:EDT
DTSTART:20250309T070000
END:DAYLIGHT
BEGIN:STANDARD
TZOFFSETFROM:-0400
TZOFFSETTO:-0500
TZNAME:EST
DTSTART:20251102T060000
END:STANDARD
BEGIN:DAYLIGHT
TZOFFSETFROM:-0500
TZOFFSETTO:-0400
TZNAME:EDT
DTSTART:20260308T070000
END:DAYLIGHT
BEGIN:STANDARD
TZOFFSETFROM:-0400
TZOFFSETTO:-0500
TZNAME:EST
DTSTART:20261101T060000
END:STANDARD
END:VTIMEZONE
BEGIN:VEVENT
DTSTART;TZID=America/Toronto:20250426T120000
DTEND;TZID=America/Toronto:20250426T143000
DTSTAMP:20260421T083425
CREATED:20240713T150536Z
LAST-MODIFIED:20240713T150603Z
UID:4900-1745668800-1745677800@animalrightstoronto.com
SUMMARY:3rd Annual Anti-Vivisection World Protest
DESCRIPTION:Save the date and check the event page for details \nhttps://tinyurl.com/muenmwnj
URL:https://animalrightstoronto.com/event/3rd-annual-anti-vivisection-world-protest/
LOCATION:Ontario
CATEGORIES:Anti-Vivisection
ATTACH;FMTTYPE=image/png:https://animalrightstoronto.com/wp-content/uploads/2024/07/3rd-Annual-Anti-Vivisection-World-Protest.png
END:VEVENT
END:VCALENDAR