BEGIN:VCALENDAR
VERSION:2.0
PRODID:-//Animal Rights Toronto - ECPv6.15.20//NONSGML v1.0//EN
CALSCALE:GREGORIAN
METHOD:PUBLISH
X-WR-CALNAME:Animal Rights Toronto
X-ORIGINAL-URL:https://animalrightstoronto.com
X-WR-CALDESC:Events for Animal Rights Toronto
REFRESH-INTERVAL;VALUE=DURATION:PT1H
X-Robots-Tag:noindex
X-PUBLISHED-TTL:PT1H
BEGIN:VTIMEZONE
TZID:America/Toronto
BEGIN:DAYLIGHT
TZOFFSETFROM:-0500
TZOFFSETTO:-0400
TZNAME:EDT
DTSTART:20240310T070000
END:DAYLIGHT
BEGIN:STANDARD
TZOFFSETFROM:-0400
TZOFFSETTO:-0500
TZNAME:EST
DTSTART:20241103T060000
END:STANDARD
BEGIN:DAYLIGHT
TZOFFSETFROM:-0500
TZOFFSETTO:-0400
TZNAME:EDT
DTSTART:20250309T070000
END:DAYLIGHT
BEGIN:STANDARD
TZOFFSETFROM:-0400
TZOFFSETTO:-0500
TZNAME:EST
DTSTART:20251102T060000
END:STANDARD
BEGIN:DAYLIGHT
TZOFFSETFROM:-0500
TZOFFSETTO:-0400
TZNAME:EDT
DTSTART:20260308T070000
END:DAYLIGHT
BEGIN:STANDARD
TZOFFSETFROM:-0400
TZOFFSETTO:-0500
TZNAME:EST
DTSTART:20261101T060000
END:STANDARD
END:VTIMEZONE
BEGIN:VEVENT
DTSTART;TZID=America/Toronto:20250420T160000
DTEND;TZID=America/Toronto:20250420T180000
DTSTAMP:20260421T084325
CREATED:20250420T051622Z
LAST-MODIFIED:20250420T051622Z
UID:8379-1745164800-1745172000@animalrightstoronto.com
SUMMARY:Anonymous for the Voiceless
DESCRIPTION:LAST MINUTE CUBE OF TRUTH: \nWe’ll be at the sidewalk of Mel Lastman Square tomorrow (Sunday April 20th) from 4 to 6pm for a Cube of Truth.\nLocation: https://maps.app.goo.gl/3soBd4AymWRFBeQTA \nI know it’s last minute but please join us (at this new location for AV Toronto)\, if you’re able!
URL:https://animalrightstoronto.com/event/anonymous-for-the-voiceless/
LOCATION:Ontario
ATTACH;FMTTYPE=image/jpeg:https://animalrightstoronto.com/wp-content/uploads/2025/03/AV_cube_of_truth.jpg
END:VEVENT
END:VCALENDAR