BEGIN:VCALENDAR
VERSION:2.0
PRODID:-//Animal Rights Toronto - ECPv6.15.20//NONSGML v1.0//EN
CALSCALE:GREGORIAN
METHOD:PUBLISH
X-WR-CALNAME:Animal Rights Toronto
X-ORIGINAL-URL:https://animalrightstoronto.com
X-WR-CALDESC:Events for Animal Rights Toronto
REFRESH-INTERVAL;VALUE=DURATION:PT1H
X-Robots-Tag:noindex
X-PUBLISHED-TTL:PT1H
BEGIN:VTIMEZONE
TZID:America/Toronto
BEGIN:DAYLIGHT
TZOFFSETFROM:-0500
TZOFFSETTO:-0400
TZNAME:EDT
DTSTART:20240310T070000
END:DAYLIGHT
BEGIN:STANDARD
TZOFFSETFROM:-0400
TZOFFSETTO:-0500
TZNAME:EST
DTSTART:20241103T060000
END:STANDARD
BEGIN:DAYLIGHT
TZOFFSETFROM:-0500
TZOFFSETTO:-0400
TZNAME:EDT
DTSTART:20250309T070000
END:DAYLIGHT
BEGIN:STANDARD
TZOFFSETFROM:-0400
TZOFFSETTO:-0500
TZNAME:EST
DTSTART:20251102T060000
END:STANDARD
BEGIN:DAYLIGHT
TZOFFSETFROM:-0500
TZOFFSETTO:-0400
TZNAME:EDT
DTSTART:20260308T070000
END:DAYLIGHT
BEGIN:STANDARD
TZOFFSETFROM:-0400
TZOFFSETTO:-0500
TZNAME:EST
DTSTART:20261101T060000
END:STANDARD
END:VTIMEZONE
BEGIN:VEVENT
DTSTART;TZID=America/Toronto:20250419T113000
DTEND;TZID=America/Toronto:20250419T133000
DTSTAMP:20260421T083414
CREATED:20250404T173849Z
LAST-MODIFIED:20250404T174158Z
UID:8230-1745062200-1745069400@animalrightstoronto.com
SUMMARY:AR Chats @ Wishbone
DESCRIPTION:Come join with other like-minded and like-hearted people to chat\, brainstorm\, and strategize about standing up for the animals! \nOn the agenda: Along with general discussion about getting animal-active\, planning has begun for the 2025 Toronto Animal Rights March! Anyone interested in volunteering as an organizer\, we look forward to seeing you. \nZoom link available. Contact Jenny McQueen\, Colleen Burns\, or Sue Spahr for details. \nA few details about AR Chats @Wishbone:\nWhether you’re a seasoned advocate or someone new to the scene\, this is a judgment-free\, no-pressure environment that welcomes every idea and supports every comfort level. Because each person is uniquely wired and different tactics resonate with different people\, there’s no one foolproof form of activism. \nAfter each session\, attendees are encouraged to participate in a street action to put your new skills and energy into practice (this is totally voluntary\, no pressure). \nSome attend one week\, but can’t come to the next one…just attend when you can.\nPlease feel free to bring a plant-based food item to share. \nLet’s return Toronto and other cities in Ontario to the thriving\, prolific animal activism centres they once were! \nAs the building that houses Wishbone is a heritage building boasting one of the last attendant-operated elevators in the city of Toronto (but only during weekday office hours)\, Wishbone will unfortunately not be accessible to anyone requiring a lift to the third floor. Our apologies in advance for this inconvenience. \nWishbone Animal Rights Lab…where vegan is the default\, NOT the option. \nNote: Please check the Facebook event page for updates.
URL:https://animalrightstoronto.com/event/ar-chats-wishbone-2/
LOCATION:Wishbone Animal Rights Lab\, Suite 305\, 600 Bay Street\, Toronto\, Ontario\, M5G 1M6\, Canada
CATEGORIES:Wishbone AR Lab
ATTACH;FMTTYPE=image/jpeg:https://animalrightstoronto.com/wp-content/uploads/2025/03/AR-Chats-at-wishbone-e1743788508485.jpg
END:VEVENT
END:VCALENDAR