BEGIN:VCALENDAR
VERSION:2.0
PRODID:-//Animal Rights Toronto - ECPv6.15.20//NONSGML v1.0//EN
CALSCALE:GREGORIAN
METHOD:PUBLISH
X-WR-CALNAME:Animal Rights Toronto
X-ORIGINAL-URL:https://animalrightstoronto.com
X-WR-CALDESC:Events for Animal Rights Toronto
REFRESH-INTERVAL;VALUE=DURATION:PT1H
X-Robots-Tag:noindex
X-PUBLISHED-TTL:PT1H
BEGIN:VTIMEZONE
TZID:America/Toronto
BEGIN:DAYLIGHT
TZOFFSETFROM:-0500
TZOFFSETTO:-0400
TZNAME:EDT
DTSTART:20240310T070000
END:DAYLIGHT
BEGIN:STANDARD
TZOFFSETFROM:-0400
TZOFFSETTO:-0500
TZNAME:EST
DTSTART:20241103T060000
END:STANDARD
BEGIN:DAYLIGHT
TZOFFSETFROM:-0500
TZOFFSETTO:-0400
TZNAME:EDT
DTSTART:20250309T070000
END:DAYLIGHT
BEGIN:STANDARD
TZOFFSETFROM:-0400
TZOFFSETTO:-0500
TZNAME:EST
DTSTART:20251102T060000
END:STANDARD
BEGIN:DAYLIGHT
TZOFFSETFROM:-0500
TZOFFSETTO:-0400
TZNAME:EDT
DTSTART:20260308T070000
END:DAYLIGHT
BEGIN:STANDARD
TZOFFSETFROM:-0400
TZOFFSETTO:-0500
TZNAME:EST
DTSTART:20261101T060000
END:STANDARD
END:VTIMEZONE
BEGIN:VEVENT
DTSTART;TZID=America/Toronto:20250330T150000
DTEND;TZID=America/Toronto:20250330T150000
DTSTAMP:20260421T085133
CREATED:20250323T162434Z
LAST-MODIFIED:20250323T163035Z
UID:8110-1743346800-1743346800@animalrightstoronto.com
SUMMARY:"The Ghosts In Our Machine" Film Screening @Hot Docs
DESCRIPTION:A feature doc by Toronto’s Liz Marshall revealing the lives of individual animals within the machine of our modern world. \nAside from our companion animals and the wild or stray species in urban spaces\, we mostly experience animals as food\, clothing\, test subjects or entertainment. This moral dilemma remains largely hidden. The Ghosts in Our Machine—directed by Toronto filmmaker Liz Marshall—reveals the lives of individual animals trapped in\, and rescued from\, our modern world’s machinery. \nThrough the lens of animal rights photojournalist Jo-Anne McArthur\, audiences intimately connect with a cast of non-human animals. From undercover investigations to joyful rescues across North America and Europe\, each photograph and story exposes global industries—Food\, Fashion\, Entertainment\, and Research. The Ghosts in Our Machine follows McArthur’s mission to spark awareness of an issue many prefer to ignore: Are non-human animals mere property\, or sentient beings deserving of rights? \nJoin director Liz Marshall for a virtual post-screening Q&A \nTickets: https://hotdocs.ca/whats-on/films/ghosts-in-our-machine
URL:https://animalrightstoronto.com/event/the-ghosts-in-our-machine-film-screening-hot-docs/
LOCATION:Hot Docs Ted Rogers Cinema\, 506 Bloor St W\, Toronto\, Ontario\, Canada
CATEGORIES:Movie Screening
ATTACH;FMTTYPE=image/jpeg:https://animalrightstoronto.com/wp-content/uploads/2025/03/The_Ghosts_In_Our_Machine.jpg
END:VEVENT
END:VCALENDAR