BEGIN:VCALENDAR
VERSION:2.0
PRODID:-//Animal Rights Toronto - ECPv6.15.20//NONSGML v1.0//EN
CALSCALE:GREGORIAN
METHOD:PUBLISH
X-WR-CALNAME:Animal Rights Toronto
X-ORIGINAL-URL:https://animalrightstoronto.com
X-WR-CALDESC:Events for Animal Rights Toronto
REFRESH-INTERVAL;VALUE=DURATION:PT1H
X-Robots-Tag:noindex
X-PUBLISHED-TTL:PT1H
BEGIN:VTIMEZONE
TZID:America/Toronto
BEGIN:DAYLIGHT
TZOFFSETFROM:-0500
TZOFFSETTO:-0400
TZNAME:EDT
DTSTART:20240310T070000
END:DAYLIGHT
BEGIN:STANDARD
TZOFFSETFROM:-0400
TZOFFSETTO:-0500
TZNAME:EST
DTSTART:20241103T060000
END:STANDARD
BEGIN:DAYLIGHT
TZOFFSETFROM:-0500
TZOFFSETTO:-0400
TZNAME:EDT
DTSTART:20250309T070000
END:DAYLIGHT
BEGIN:STANDARD
TZOFFSETFROM:-0400
TZOFFSETTO:-0500
TZNAME:EST
DTSTART:20251102T060000
END:STANDARD
BEGIN:DAYLIGHT
TZOFFSETFROM:-0500
TZOFFSETTO:-0400
TZNAME:EDT
DTSTART:20260308T070000
END:DAYLIGHT
BEGIN:STANDARD
TZOFFSETFROM:-0400
TZOFFSETTO:-0500
TZNAME:EST
DTSTART:20261101T060000
END:STANDARD
END:VTIMEZONE
BEGIN:VEVENT
DTSTART;TZID=America/Toronto:20250315T113000
DTEND;TZID=America/Toronto:20250315T133000
DTSTAMP:20260421T131850
CREATED:20250309T054213Z
LAST-MODIFIED:20250309T201241Z
UID:7962-1742038200-1742045400@animalrightstoronto.com
SUMMARY:AR Chats @ Wishbone - Saturday March 15th
DESCRIPTION:Saturday March 15\, 2025 from 11:30am – 1:30pm \nDate selection and planning begins for the 2025 TORONTO ANIMAL RIGHTS MARCH! Anyone interested in volunteering as an organizer\, we look forward to seeing you! \nNew year\, new resolve\, new strategies.\nJoin with other like-minded and like-hearted people to chat\, brainstorm\, and strategize about standing up for the animals!\nOn the agenda: Along with general discussion about getting animal-active and business by FurFree Toronto\, date selection and planning begins for the 2025 Toronto Animal Rights March! \nA few details about AR Chats @Wishbone:\nWhether you’re a seasoned advocate or someone new to the scene\, this is a judgment-free\, no-pressure environment that welcomes every idea and supports every comfort level. Because each person is uniquely wired and different tactics resonate with different people\, there’s no one foolproof form of activism. \nAfter each session\, attendees are encouraged to participate in a street action to put your new skills and energy into practice (this is totally voluntary\, no pressure).\nSome attend one week\, but can’t come to the next one…just attend when you can.\nPlease feel free to bring a plant-based food item to share.\nLet’s return Toronto and other cities in Ontario to the thriving\, prolific animal activism centres they once were! \nAs the building that houses Wishbone is a heritage building boasting one of the last attendant-operated elevators in the city of Toronto (but only during weekday office hours)\, Wishbone will unfortunately not be accessible to anyone requiring a lift to the third floor. Our apologies in advance for this inconvenience. \nWishbone Animal Rights Lab…where vegan is the default\, NOT the option.
URL:https://animalrightstoronto.com/event/ar-chats-wishbone-saturday-march-15th/
LOCATION:Ontario
CATEGORIES:AR Planning & Strategy
ATTACH;FMTTYPE=image/jpeg:https://animalrightstoronto.com/wp-content/uploads/2025/03/AR_Chats_March15.jpg
END:VEVENT
BEGIN:VEVENT
DTSTART;TZID=America/Toronto:20250315T140000
DTEND;TZID=America/Toronto:20250315T150000
DTSTAMP:20260421T131850
CREATED:20250315T022504Z
LAST-MODIFIED:20250315T022504Z
UID:8038-1742047200-1742050800@animalrightstoronto.com
SUMMARY:Support Canada - Buy Cruelty-Free Canadian Coats
DESCRIPTION:After the latest instalment of AR Chats at Wishbone we will be heading down to Yonge and Dundas.  \nhttps://www.facebook.com/share/195vEkSLUV/ \nWe are trying something a little different\, along with something we have done before. We want to attract shoppers by displaying a Canada and Animals-First stance.  \nJoin us wearing your best Canadian Vegan Coats\, if possible. Red and White is another great option! Bring Canadian Flags and other Canadian memorabilia. We will highlight all the alternatives people can buy\, where to pick them up and also let them know which brands are not only cruel but not Canadian.  \nWe will be also be dragging out some old fave signs from J and P’s basement – namely Canada Goose\, Rudsak\, Mooseknuckles and Nobis\, just to let people know what they shouldn’t be supporting.
URL:https://animalrightstoronto.com/event/support-canada-buy-cruelty-free-canadian-coats/
LOCATION:Yonge-Dundas Square\, 1 Dundas Street East\, Toronto\, Ontario\, Canada
ATTACH;FMTTYPE=image/jpeg:https://animalrightstoronto.com/wp-content/uploads/2025/03/IMG_4234.jpeg
END:VEVENT
END:VCALENDAR