BEGIN:VCALENDAR
VERSION:2.0
PRODID:-//Animal Rights Toronto - ECPv6.15.20//NONSGML v1.0//EN
CALSCALE:GREGORIAN
METHOD:PUBLISH
X-ORIGINAL-URL:https://animalrightstoronto.com
X-WR-CALDESC:Events for Animal Rights Toronto
REFRESH-INTERVAL;VALUE=DURATION:PT1H
X-Robots-Tag:noindex
X-PUBLISHED-TTL:PT1H
BEGIN:VTIMEZONE
TZID:America/Toronto
BEGIN:DAYLIGHT
TZOFFSETFROM:-0500
TZOFFSETTO:-0400
TZNAME:EDT
DTSTART:20240310T070000
END:DAYLIGHT
BEGIN:STANDARD
TZOFFSETFROM:-0400
TZOFFSETTO:-0500
TZNAME:EST
DTSTART:20241103T060000
END:STANDARD
BEGIN:DAYLIGHT
TZOFFSETFROM:-0500
TZOFFSETTO:-0400
TZNAME:EDT
DTSTART:20250309T070000
END:DAYLIGHT
BEGIN:STANDARD
TZOFFSETFROM:-0400
TZOFFSETTO:-0500
TZNAME:EST
DTSTART:20251102T060000
END:STANDARD
BEGIN:DAYLIGHT
TZOFFSETFROM:-0500
TZOFFSETTO:-0400
TZNAME:EDT
DTSTART:20260308T070000
END:DAYLIGHT
BEGIN:STANDARD
TZOFFSETFROM:-0400
TZOFFSETTO:-0500
TZNAME:EST
DTSTART:20261101T060000
END:STANDARD
END:VTIMEZONE
BEGIN:VEVENT
DTSTART;TZID=America/Toronto:20250216T120000
DTEND;TZID=America/Toronto:20250216T150000
DTSTAMP:20260421T132100
CREATED:20250126T020714Z
LAST-MODIFIED:20250126T020714Z
UID:7381-1739707200-1739718000@animalrightstoronto.com
SUMMARY:PaintPix & Chill - Let's Paint Together@ The Lab
DESCRIPTION:The last two painting sessions have been so popular\, we’ve decided to make them a permanent monthly fixture at Wishbone. Due to the need for artists need to spread out and create\, the event is capped at 15 participants. \nEnjoy a relaxing\, enjoyable afternoon and let your creative juices flow freely with Kieran Hayes\, volunteer at Wishbone (aka The Sunday Guy). \nBYOM (bring your own materials) or feel free to use what’s available at the Lab. \nAll skill levels from zero to Picasso are welcome. \nWe are a default-vegan centre\, so if you’re bringing food\, it must be plant-based only. \nAs the building that houses Wishbone is a heritage building boasting one of the last attendant-operated elevators in the city of Toronto (but only during weekday office hours)\, Wishbone will unfortunately not be accessible to anyone requiring a lift to the third floor for this particular event. Our apologies in advance for this inconvenience. \nNote: Please check the Facebook event page for updates.
URL:https://animalrightstoronto.com/event/paintpix-chill-lets-paint-together-the-lab/
LOCATION:Wishbone Animal Rights Lab\, Suite 305\, 600 Bay Street\, Toronto\, Ontario\, M5G 1M6\, Canada
CATEGORIES:Vegan Social Event
ATTACH;FMTTYPE=image/jpeg:https://animalrightstoronto.com/wp-content/uploads/2025/01/Lets_Paint_together_Feb16.jpg
END:VEVENT
BEGIN:VEVENT
DTSTART;TZID=America/Toronto:20250216T150000
DTEND;TZID=America/Toronto:20250216T180000
DTSTAMP:20260421T132101
CREATED:20250121T021233Z
LAST-MODIFIED:20250121T021322Z
UID:7282-1739718000-1739728800@animalrightstoronto.com
SUMMARY:BOARD GAME NIGHT/SOCIAL EVENT
DESCRIPTION:Join the WTF Hamilton group to be kept up to date with this and other events:\nwww.facebook.com/groups/wtfhamilton/ \nIt’s been a little while Hamilton but let’s get together\, reconnect and plan some great things for the new year! This board game cafe looks fun and has lots of vegan snacks. \nLooking forward to hopefully seeing everyone! \nNote: Please check the Facebook event page for updates.
URL:https://animalrightstoronto.com/event/board-game-night-social-event/
LOCATION:THE BARD AND BEAR GAMES CAFE\, 237 James St\, Hamilton\, Ontario\, L8R2L2\, Canada
CATEGORIES:Vegan Social Event,We the Free
ATTACH;FMTTYPE=image/jpeg:https://animalrightstoronto.com/wp-content/uploads/2025/01/IMG_0245.jpeg
END:VEVENT
END:VCALENDAR