BEGIN:VCALENDAR
VERSION:2.0
PRODID:-//Animal Rights Toronto - ECPv6.15.20//NONSGML v1.0//EN
CALSCALE:GREGORIAN
METHOD:PUBLISH
X-WR-CALNAME:Animal Rights Toronto
X-ORIGINAL-URL:https://animalrightstoronto.com
X-WR-CALDESC:Events for Animal Rights Toronto
REFRESH-INTERVAL;VALUE=DURATION:PT1H
X-Robots-Tag:noindex
X-PUBLISHED-TTL:PT1H
BEGIN:VTIMEZONE
TZID:America/Toronto
BEGIN:DAYLIGHT
TZOFFSETFROM:-0500
TZOFFSETTO:-0400
TZNAME:EDT
DTSTART:20240310T070000
END:DAYLIGHT
BEGIN:STANDARD
TZOFFSETFROM:-0400
TZOFFSETTO:-0500
TZNAME:EST
DTSTART:20241103T060000
END:STANDARD
BEGIN:DAYLIGHT
TZOFFSETFROM:-0500
TZOFFSETTO:-0400
TZNAME:EDT
DTSTART:20250309T070000
END:DAYLIGHT
BEGIN:STANDARD
TZOFFSETFROM:-0400
TZOFFSETTO:-0500
TZNAME:EST
DTSTART:20251102T060000
END:STANDARD
BEGIN:DAYLIGHT
TZOFFSETFROM:-0500
TZOFFSETTO:-0400
TZNAME:EDT
DTSTART:20260308T070000
END:DAYLIGHT
BEGIN:STANDARD
TZOFFSETFROM:-0400
TZOFFSETTO:-0500
TZNAME:EST
DTSTART:20261101T060000
END:STANDARD
END:VTIMEZONE
BEGIN:VEVENT
DTSTART;TZID=America/Toronto:20250214T080000
DTEND;TZID=America/Toronto:20250214T200000
DTSTAMP:20260421T131711
CREATED:20250213T202531Z
LAST-MODIFIED:20250213T202531Z
UID:7680-1739520000-1739563200@animalrightstoronto.com
SUMMARY:Where is the Love: Tell Ethiopian Airlines to Go Cruelty-Free
DESCRIPTION:Email the CEO of Ethiopian Airlines to urge it to go cruelty-free.\nThe link for the pre-written email will be posted on the Facebook event page at 8 a.m. on February 14.
URL:https://animalrightstoronto.com/event/where-is-the-love-tell-ethiopian-airlines-to-go-cruelty-free/
LOCATION:Online Event
CATEGORIES:Online Action
ATTACH;FMTTYPE=image/jpeg:https://animalrightstoronto.com/wp-content/uploads/2025/02/Where_is_the_Love_Ethiopian_Airlines.jpg
END:VEVENT
END:VCALENDAR