BEGIN:VCALENDAR
VERSION:2.0
PRODID:-//Animal Rights Toronto - ECPv6.15.20//NONSGML v1.0//EN
CALSCALE:GREGORIAN
METHOD:PUBLISH
X-ORIGINAL-URL:https://animalrightstoronto.com
X-WR-CALDESC:Events for Animal Rights Toronto
REFRESH-INTERVAL;VALUE=DURATION:PT1H
X-Robots-Tag:noindex
X-PUBLISHED-TTL:PT1H
BEGIN:VTIMEZONE
TZID:America/Toronto
BEGIN:DAYLIGHT
TZOFFSETFROM:-0500
TZOFFSETTO:-0400
TZNAME:EDT
DTSTART:20240310T070000
END:DAYLIGHT
BEGIN:STANDARD
TZOFFSETFROM:-0400
TZOFFSETTO:-0500
TZNAME:EST
DTSTART:20241103T060000
END:STANDARD
BEGIN:DAYLIGHT
TZOFFSETFROM:-0500
TZOFFSETTO:-0400
TZNAME:EDT
DTSTART:20250309T070000
END:DAYLIGHT
BEGIN:STANDARD
TZOFFSETFROM:-0400
TZOFFSETTO:-0500
TZNAME:EST
DTSTART:20251102T060000
END:STANDARD
BEGIN:DAYLIGHT
TZOFFSETFROM:-0500
TZOFFSETTO:-0400
TZNAME:EDT
DTSTART:20260308T070000
END:DAYLIGHT
BEGIN:STANDARD
TZOFFSETFROM:-0400
TZOFFSETTO:-0500
TZNAME:EST
DTSTART:20261101T060000
END:STANDARD
END:VTIMEZONE
BEGIN:VEVENT
DTSTART;TZID=America/Toronto:20250213T120000
DTEND;TZID=America/Toronto:20250213T130000
DTSTAMP:20260421T132128
CREATED:20250213T070531Z
LAST-MODIFIED:20250213T070750Z
UID:7671-1739448000-1739451600@animalrightstoronto.com
SUMMARY:What the Studies Say About Animal vs Plant-Based Meat
DESCRIPTION:FOR OUR NEXT AJA LUNCHTIME LIVE on FEB. 13… \nREGISTER (free): https://training.animaljusticeacademy.com/lunchtime-live-registration-02132025 \nYou’ll probably recall how Beyond Burger and Impossible Meat entered the scene a few years ago to great fanfare… Folks were thrilled to have a tasty alternative to animal meat that was healthier\, more environmental\, and cruelty-free. \nShortly after\, however\, the animal agriculture industry started a massive campaign to discredit these competing plant-based products by positioning them as “ultra-processed”\, “unnatural”\, and “unhealthy”. \nOn this AJA Lunchtime Live\, we have Dr. Matthew Nagra\, ND joining us to set the record straight! \nHe was the lead researcher of a meta-analysis published in the Canadian Journal of Cardiology that looked at studies from 1970 to 2023 comparing plant-based and animal-based meats. \nHe’ll give us the Coles Notes on this large-scale review that shows plant-based meat alternatives — even the so-called “ultra-processed” products — as the more heart-healthy option. \nThe findings report how plant-based meats better support reductions in weight and cholesterol and supply more dietary fibre. Also\, how they’re not only better for the planet\, they’re better for the body. \nIn this session\, Matthew will give us tips on how to use this information to effectively to dispel the meat industry’s harmful myths about plant-based meats. \nThursday\, February 13\n12:00-1:00pm ET on ZOOM
URL:https://animalrightstoronto.com/event/7671/
LOCATION:Ontario
ATTACH;FMTTYPE=image/jpeg:https://animalrightstoronto.com/wp-content/uploads/2025/02/IMG_3290.jpeg
END:VEVENT
END:VCALENDAR