BEGIN:VCALENDAR
VERSION:2.0
PRODID:-//Animal Rights Toronto - ECPv6.15.20//NONSGML v1.0//EN
CALSCALE:GREGORIAN
METHOD:PUBLISH
X-ORIGINAL-URL:https://animalrightstoronto.com
X-WR-CALDESC:Events for Animal Rights Toronto
REFRESH-INTERVAL;VALUE=DURATION:PT1H
X-Robots-Tag:noindex
X-PUBLISHED-TTL:PT1H
BEGIN:VTIMEZONE
TZID:America/Toronto
BEGIN:DAYLIGHT
TZOFFSETFROM:-0500
TZOFFSETTO:-0400
TZNAME:EDT
DTSTART:20240310T070000
END:DAYLIGHT
BEGIN:STANDARD
TZOFFSETFROM:-0400
TZOFFSETTO:-0500
TZNAME:EST
DTSTART:20241103T060000
END:STANDARD
BEGIN:DAYLIGHT
TZOFFSETFROM:-0500
TZOFFSETTO:-0400
TZNAME:EDT
DTSTART:20250309T070000
END:DAYLIGHT
BEGIN:STANDARD
TZOFFSETFROM:-0400
TZOFFSETTO:-0500
TZNAME:EST
DTSTART:20251102T060000
END:STANDARD
BEGIN:DAYLIGHT
TZOFFSETFROM:-0500
TZOFFSETTO:-0400
TZNAME:EDT
DTSTART:20260308T070000
END:DAYLIGHT
BEGIN:STANDARD
TZOFFSETFROM:-0400
TZOFFSETTO:-0500
TZNAME:EST
DTSTART:20261101T060000
END:STANDARD
END:VTIMEZONE
BEGIN:VEVENT
DTSTART;TZID=America/Toronto:20250210T100000
DTEND;TZID=America/Toronto:20250212T210000
DTSTAMP:20260421T132107
CREATED:20250202T201538Z
LAST-MODIFIED:20250202T201612Z
UID:7544-1739181600-1739394000@animalrightstoronto.com
SUMMARY:PetSmart Online Pressure Campaign
DESCRIPTION:Join Our 3-Day Online Campaign to Urge PetSmart to Ban the Sale of Live Animals. \nDay 1: Social Media Comment Blast\nEngage on PetSmart’s social media platforms to voice your concerns. \nDay 2: Phone Call Initiative\nReach out to PetSmart customer service to communicate our request. \nDay 3: Email Campaign\nSend a pre-written email advocating for the ban of live animal sales within PetSmart. \nDetails:\nEach day’s action will be announced at 10:00 AM EST on Facebook and Instagram. Kindly share this initiative with your network.\nFurther instructions will be provided on the day of each action.\nWe stand firmly against any form of oppression or hate speech.\nFor inquiries\, please contact Animal Souls Restored. \nNote: Please check the Facebook event page for updates.
URL:https://animalrightstoronto.com/event/petsmart-online-pressure-campaign/
LOCATION:Online Event
ATTACH;FMTTYPE=image/jpeg:https://animalrightstoronto.com/wp-content/uploads/2025/02/Pet_smart_pressure_campaign.jpg
END:VEVENT
END:VCALENDAR