BEGIN:VCALENDAR
VERSION:2.0
PRODID:-//Animal Rights Toronto - ECPv6.15.20//NONSGML v1.0//EN
CALSCALE:GREGORIAN
METHOD:PUBLISH
X-ORIGINAL-URL:https://animalrightstoronto.com
X-WR-CALDESC:Events for Animal Rights Toronto
REFRESH-INTERVAL;VALUE=DURATION:PT1H
X-Robots-Tag:noindex
X-PUBLISHED-TTL:PT1H
BEGIN:VTIMEZONE
TZID:America/Toronto
BEGIN:DAYLIGHT
TZOFFSETFROM:-0500
TZOFFSETTO:-0400
TZNAME:EDT
DTSTART:20240310T070000
END:DAYLIGHT
BEGIN:STANDARD
TZOFFSETFROM:-0400
TZOFFSETTO:-0500
TZNAME:EST
DTSTART:20241103T060000
END:STANDARD
BEGIN:DAYLIGHT
TZOFFSETFROM:-0500
TZOFFSETTO:-0400
TZNAME:EDT
DTSTART:20250309T070000
END:DAYLIGHT
BEGIN:STANDARD
TZOFFSETFROM:-0400
TZOFFSETTO:-0500
TZNAME:EST
DTSTART:20251102T060000
END:STANDARD
BEGIN:DAYLIGHT
TZOFFSETFROM:-0500
TZOFFSETTO:-0400
TZNAME:EDT
DTSTART:20260308T070000
END:DAYLIGHT
BEGIN:STANDARD
TZOFFSETFROM:-0400
TZOFFSETTO:-0500
TZNAME:EST
DTSTART:20261101T060000
END:STANDARD
END:VTIMEZONE
BEGIN:VEVENT
DTSTART;TZID=America/Toronto:20250128T190000
DTEND;TZID=America/Toronto:20250128T210000
DTSTAMP:20260421T131928
CREATED:20250121T020711Z
LAST-MODIFIED:20250121T020711Z
UID:7293-1738090800-1738098000@animalrightstoronto.com
SUMMARY:EFFECTIVE COMMUNICATION WORKSHOP
DESCRIPTION:This workshop will provide an introduction to Nonviolent Communication (NVC) for animal advocates. NVC is a communication modality based on principles of Nonviolence\, a philosophy that seeks to find a third way beyond the binary of pacifism and violence. NVC seeks solutions to conflicts that\, through awareness of the needs of all parties\, lead towards healing and reconciliation for all. \nThis highly interactive workshop will cover the basic vocabulary of NVC- observations\, feelings\, needs\, and requests\, and include exercises to begin (or continue) your practice. We’ll discuss using NVC across power differentials and in some common conflicts internal to the animal rights movement. \nSecure your spot & register now for free: https://www.eventbrite.com/e/1115681105219 \nTo avoid time discrepancies\, confirm the time here: https://www.timeanddate.com/worldclock/fixedtime.html?msg=Communication+Workshop&iso=20250128T19&p1=250&ah=2 \nAbout the Facilitator: \nEva Hamer is a co-founder of Pax Fauna\, an organization committed to revitalizing the grassroots animal rights movement in the US through original research on messaging\, strategy\, and culture. Building on a background in Kingian nonviolence\, Eva Hamer has been engaging in intensive study of Nonviolent communication for several years\, and she is committed to bringing NVC’s repertoire of creative problem-solving tools to the work of building a stronger culture in the animal movement. \nEva has been organizing in the animal freedom movement since 2015 when she started working with DxE in Chicago\, where she focused on building community\, writing protest music\, and compiling the movements’ songs into an online songbook used by advocates around the world. From 2018-2021\, she worked full-time for DxE\, managing the organization’s many legal cases\, organizing trainings\, and orchestrating large artistic demonstrations. Eva has a deep curiosity about the internal cultural dynamics of social movements and their ability to influence dominant culture. \nNote: Please check the Facebook event page for updates.
URL:https://animalrightstoronto.com/event/effective-communication-workshop/
LOCATION:Online Event
CATEGORIES:Training or Workshop,We the Free
ATTACH;FMTTYPE=image/jpeg:https://animalrightstoronto.com/wp-content/uploads/2025/01/IMG_0211.jpeg
END:VEVENT
END:VCALENDAR