BEGIN:VCALENDAR
VERSION:2.0
PRODID:-//Animal Rights Toronto - ECPv6.15.20//NONSGML v1.0//EN
CALSCALE:GREGORIAN
METHOD:PUBLISH
X-ORIGINAL-URL:https://animalrightstoronto.com
X-WR-CALDESC:Events for Animal Rights Toronto
REFRESH-INTERVAL;VALUE=DURATION:PT1H
X-Robots-Tag:noindex
X-PUBLISHED-TTL:PT1H
BEGIN:VTIMEZONE
TZID:America/Toronto
BEGIN:DAYLIGHT
TZOFFSETFROM:-0500
TZOFFSETTO:-0400
TZNAME:EDT
DTSTART:20230312T070000
END:DAYLIGHT
BEGIN:STANDARD
TZOFFSETFROM:-0400
TZOFFSETTO:-0500
TZNAME:EST
DTSTART:20231105T060000
END:STANDARD
BEGIN:DAYLIGHT
TZOFFSETFROM:-0500
TZOFFSETTO:-0400
TZNAME:EDT
DTSTART:20240310T070000
END:DAYLIGHT
BEGIN:STANDARD
TZOFFSETFROM:-0400
TZOFFSETTO:-0500
TZNAME:EST
DTSTART:20241103T060000
END:STANDARD
BEGIN:DAYLIGHT
TZOFFSETFROM:-0500
TZOFFSETTO:-0400
TZNAME:EDT
DTSTART:20250309T070000
END:DAYLIGHT
BEGIN:STANDARD
TZOFFSETFROM:-0400
TZOFFSETTO:-0500
TZNAME:EST
DTSTART:20251102T060000
END:STANDARD
END:VTIMEZONE
BEGIN:VEVENT
DTSTART;TZID=America/Toronto:20241222T120000
DTEND;TZID=America/Toronto:20241222T170000
DTSTAMP:20260421T194146
CREATED:20241211T191246Z
LAST-MODIFIED:20241211T191246Z
UID:6959-1734868800-1734886800@animalrightstoronto.com
SUMMARY:Christspiracy Film Screening & Potluck
DESCRIPTION:**🎥 Join Us for a Thought-Provoking Film Screening and Potluck!**\nGet ready for an afternoon of delicious food\, meaningful dialogue\, and an inspiring documentary! We’re hosting a **special potluck film screening** of *Christspiracy*\, and we want YOU to join the conversation.\n—\n**📅 When:**\n**Friday\, December 22nd\, 2024**\n**Time:** 12:00 PM – 5:00 PM\n**📍 Where:**\n**17 Davis Rd\, Aurora\, ON L4G 2B4\, Canada**\n—\n#### **About the Film: *Christspiracy***\n*Christspiracy* is a **2024 documentary film** co-directed by Kip Andersen and Kameron Waters. It explores the often-overlooked relationship between **religion\, spirituality\, and animal exploitation**\, with a primary focus on Christianity. Premiering on March 7\, 2024\, in London\, the film has sparked global conversations since its worldwide theatrical release on March 20\, 2024.\nThe documentary investigates the provocative question:\n**”Is there an ethical or spiritual way to kill an animal?”**\nThe film features interviews with religious leaders\, Oxford University doctors\, and experts from various faiths\, including **Christianity\, Judaism\, Islam\, Hinduism\, and Buddhism**.\n**Key aspects of *Christspiracy* include:**\n– It’s part of the popular “spiracy” series\, following *Cowspiracy*\, *What the Health*\, and *Seaspiracy*.\n– The film examines the contradiction between religious teachings of compassion and the practice of animal exploitation.\n– It claims to uncover a “2000-year cover-up” surrounding religion and animals.\n– Actor Joaquin Phoenix has endorsed the film\, describing it as a **”philosophical journey”** that exposes **”unforgiving truths about animal cruelty in the name of religion”**.\nWhile the film has received mixed reviews\, it is widely praised for sparking critical conversations about spirituality\, ethics\, and our treatment of animals.\n—\n#### **Potluck Guidelines: Come Hungry and Bring a Dish!**\nThis is a **100% vegan potluck**!\nThat means **no animal products of any kind**—including meat\, fish\, dairy\, eggs\, or any other animal-derived ingredients. Please ensure your dish is entirely plant-based so everyone can enjoy the meal together.\nNot sure what to bring? Some ideas:\n– Fresh salads\n– Vegan casseroles\n– Plant-based desserts\n– Fruit platters\n– Snacks like hummus and veggies\nLet’s get creative and celebrate ethical\, compassionate eating!\n—\n**🎟 Admission:**\nFree! Just bring a vegan dish to share.\n—\n**Why Attend?**\n– Watch an inspiring film that dives into the intersection of religion\, spirituality\, and animal rights.\n– Share delicious vegan food with a welcoming and inclusive community.\n– Engage in meaningful discussions about ethics\, compassion\, and sustainability.\nWe can’t wait to see you there! Bring your friends\, your appetite\, and your curiosity. Let’s make this a memorable afternoon of learning\, sharing\, and connecting.\n**RSVP Now** to save your spot and let us know what you’re bringing. 🌱
URL:https://animalrightstoronto.com/event/christspiracy-film-screening-potluck/
LOCATION:17 davis road\, Aurora\, Ontario L4G 2B4\, 17 Davis Road\, Aurora\, Ontario\, L4G 2B4\, Canada
CATEGORIES:Movie Screening,Vegan Event,Vegan Social Event
ATTACH;FMTTYPE=image/jpeg:https://animalrightstoronto.com/wp-content/uploads/2024/12/Screenshot_20241210_222712_Chrome.jpg
ORGANIZER;CN="York Friends of Animals":MAILTO:oymvideos@gmail.com
END:VEVENT
END:VCALENDAR