BEGIN:VCALENDAR
VERSION:2.0
PRODID:-//Animal Rights Toronto - ECPv6.15.20//NONSGML v1.0//EN
CALSCALE:GREGORIAN
METHOD:PUBLISH
X-WR-CALNAME:Animal Rights Toronto
X-ORIGINAL-URL:https://animalrightstoronto.com
X-WR-CALDESC:Events for Animal Rights Toronto
REFRESH-INTERVAL;VALUE=DURATION:PT1H
X-Robots-Tag:noindex
X-PUBLISHED-TTL:PT1H
BEGIN:VTIMEZONE
TZID:America/Toronto
BEGIN:DAYLIGHT
TZOFFSETFROM:-0500
TZOFFSETTO:-0400
TZNAME:EDT
DTSTART:20230312T070000
END:DAYLIGHT
BEGIN:STANDARD
TZOFFSETFROM:-0400
TZOFFSETTO:-0500
TZNAME:EST
DTSTART:20231105T060000
END:STANDARD
BEGIN:DAYLIGHT
TZOFFSETFROM:-0500
TZOFFSETTO:-0400
TZNAME:EDT
DTSTART:20240310T070000
END:DAYLIGHT
BEGIN:STANDARD
TZOFFSETFROM:-0400
TZOFFSETTO:-0500
TZNAME:EST
DTSTART:20241103T060000
END:STANDARD
BEGIN:DAYLIGHT
TZOFFSETFROM:-0500
TZOFFSETTO:-0400
TZNAME:EDT
DTSTART:20250309T070000
END:DAYLIGHT
BEGIN:STANDARD
TZOFFSETFROM:-0400
TZOFFSETTO:-0500
TZNAME:EST
DTSTART:20251102T060000
END:STANDARD
END:VTIMEZONE
BEGIN:VEVENT
DTSTART;TZID=America/Toronto:20241221T140000
DTEND;TZID=America/Toronto:20241221T233000
DTSTAMP:20260421T193929
CREATED:20241208T012634Z
LAST-MODIFIED:20241208T012819Z
UID:6846-1734789600-1734823800@animalrightstoronto.com
SUMMARY:IVFF Marathon Festival Screening
DESCRIPTION:SATURDAY\, DECEMBER 21ST\n2:00 PM TO MIDNIGHT \nJOIN US FOR A 10-HOUR MARATHON WATCH PARTY\nOF 30 INCREDIBLE & INSPIRING FILMS\nCELEBRATING COMPASSION AND SUSTAINABILITY! \nMINIMUM $7 DONATION AT THE DOOR\n($5 USD PER-ATTENDEE FEE CHARGED BY IVFF) \n*CONCESSION STAND OPEN*\nBUT FEEL FREE TO BRING YOUR OWN PLANT-BASED SNACKS & DRINKS!
URL:https://animalrightstoronto.com/event/ivff-marathon-festival-screening/
LOCATION:Wishbone Animal Rights Lab\, Suite 305\, 600 Bay Street\, Toronto\, Ontario\, M5G 1M6\, Canada
CATEGORIES:Wishbone AR Lab
ATTACH;FMTTYPE=image/jpeg:https://animalrightstoronto.com/wp-content/uploads/2024/12/IVFF_marathon_screening.jpg
END:VEVENT
END:VCALENDAR