BEGIN:VCALENDAR
VERSION:2.0
PRODID:-//Animal Rights Toronto - ECPv6.15.20//NONSGML v1.0//EN
CALSCALE:GREGORIAN
METHOD:PUBLISH
X-ORIGINAL-URL:https://animalrightstoronto.com
X-WR-CALDESC:Events for Animal Rights Toronto
REFRESH-INTERVAL;VALUE=DURATION:PT1H
X-Robots-Tag:noindex
X-PUBLISHED-TTL:PT1H
BEGIN:VTIMEZONE
TZID:America/Toronto
BEGIN:DAYLIGHT
TZOFFSETFROM:-0500
TZOFFSETTO:-0400
TZNAME:EDT
DTSTART:20230312T070000
END:DAYLIGHT
BEGIN:STANDARD
TZOFFSETFROM:-0400
TZOFFSETTO:-0500
TZNAME:EST
DTSTART:20231105T060000
END:STANDARD
BEGIN:DAYLIGHT
TZOFFSETFROM:-0500
TZOFFSETTO:-0400
TZNAME:EDT
DTSTART:20240310T070000
END:DAYLIGHT
BEGIN:STANDARD
TZOFFSETFROM:-0400
TZOFFSETTO:-0500
TZNAME:EST
DTSTART:20241103T060000
END:STANDARD
BEGIN:DAYLIGHT
TZOFFSETFROM:-0500
TZOFFSETTO:-0400
TZNAME:EDT
DTSTART:20250309T070000
END:DAYLIGHT
BEGIN:STANDARD
TZOFFSETFROM:-0400
TZOFFSETTO:-0500
TZNAME:EST
DTSTART:20251102T060000
END:STANDARD
END:VTIMEZONE
BEGIN:VEVENT
DTSTART;TZID=America/Toronto:20241215T120000
DTEND;TZID=America/Toronto:20241215T150000
DTSTAMP:20260421T194153
CREATED:20241208T012521Z
LAST-MODIFIED:20241208T012521Z
UID:6851-1734264000-1734274800@animalrightstoronto.com
SUMMARY:I Love It When We're Painting Together!
DESCRIPTION:DROP BY ON DEC 15TH • 12-3PM\nWHETHER YOU’RE AN ART PRO OR JUST PAINT-CURIOUS\, COME HANG WITH US!\nESCAPE THE DECEMBER CHILL AND GET THOSE CREATIVE VIBES FLOWING AT THE LAB. \nWE’VE GOT PAINTS & CANVAS BOARDS READY FOR YOU!\n(FEEL FREE TO BRING YOUR OWN FAVE SUPPLIES\, TOO) \nZERO PRESSURE\, ALL FUN – JUST COME AS YOU ARE.
URL:https://animalrightstoronto.com/event/i-love-it-when-were-painting-together/
LOCATION:Wishbone Animal Rights Lab\, Suite 305\, 600 Bay Street\, Toronto\, Ontario\, M5G 1M6\, Canada
CATEGORIES:Vegan Social Event
ATTACH;FMTTYPE=image/jpeg:https://animalrightstoronto.com/wp-content/uploads/2024/12/paint.jpg
END:VEVENT
BEGIN:VEVENT
DTSTART;TZID=America/Toronto:20241215T120000
DTEND;TZID=America/Toronto:20241215T170000
DTSTAMP:20260421T194153
CREATED:20241215T080341Z
LAST-MODIFIED:20241215T080341Z
UID:7003-1734264000-1734282000@animalrightstoronto.com
SUMMARY:Vegan German Market
DESCRIPTION:Get ready to find your Santa hat!  \nA very special vegan holiday market is coming!! \nVenue & details: https://facebook.com/events/s/german-holiday-market/1106063404497962/ \nSausage Party Toronto\nAunty Ems Deli\nPierogi Me!\nLittle Jo Berrys\nMarubashi Preserves\nVegan brown sugar macarons\nFrizzkid (!!)\nZengarry Fauxmagerie  \nBeer and dranks by Steadfast Brewery  \nLive holiday music by Chewbear!!
URL:https://animalrightstoronto.com/event/vegan-german-market/
LOCATION:Ontario
ATTACH;FMTTYPE=image/jpeg:https://animalrightstoronto.com/wp-content/uploads/2024/12/IMG_1635.jpeg
END:VEVENT
END:VCALENDAR