BEGIN:VCALENDAR
VERSION:2.0
PRODID:-//Animal Rights Toronto - ECPv6.15.20//NONSGML v1.0//EN
CALSCALE:GREGORIAN
METHOD:PUBLISH
X-ORIGINAL-URL:https://animalrightstoronto.com
X-WR-CALDESC:Events for Animal Rights Toronto
REFRESH-INTERVAL;VALUE=DURATION:PT1H
X-Robots-Tag:noindex
X-PUBLISHED-TTL:PT1H
BEGIN:VTIMEZONE
TZID:America/Toronto
BEGIN:DAYLIGHT
TZOFFSETFROM:-0500
TZOFFSETTO:-0400
TZNAME:EDT
DTSTART:20230312T070000
END:DAYLIGHT
BEGIN:STANDARD
TZOFFSETFROM:-0400
TZOFFSETTO:-0500
TZNAME:EST
DTSTART:20231105T060000
END:STANDARD
BEGIN:DAYLIGHT
TZOFFSETFROM:-0500
TZOFFSETTO:-0400
TZNAME:EDT
DTSTART:20240310T070000
END:DAYLIGHT
BEGIN:STANDARD
TZOFFSETFROM:-0400
TZOFFSETTO:-0500
TZNAME:EST
DTSTART:20241103T060000
END:STANDARD
BEGIN:DAYLIGHT
TZOFFSETFROM:-0500
TZOFFSETTO:-0400
TZNAME:EDT
DTSTART:20250309T070000
END:DAYLIGHT
BEGIN:STANDARD
TZOFFSETFROM:-0400
TZOFFSETTO:-0500
TZNAME:EST
DTSTART:20251102T060000
END:STANDARD
END:VTIMEZONE
BEGIN:VEVENT
DTSTART;TZID=America/Toronto:20241208T100000
DTEND;TZID=America/Toronto:20241208T170000
DTSTAMP:20260423T055150
CREATED:20241207T192832Z
LAST-MODIFIED:20241207T192832Z
UID:6872-1733652000-1733677200@animalrightstoronto.com
SUMMARY:Vegan Holiday Market at ALK
DESCRIPTION:Holiday Market featuring local artist\, product makers and non profit organizations. Come shop for all your Holiday gifts and support our vendors. We will have so many beautiful\, sustainable products to cover all your family and friends presents. Enjoy warm drinks and yummy food while shopping.\nVendors list is small but mighty to cover all your shopping needs:\nVegan Brown Sugar Bakery\nInstagram: https://www.instagram.com/veganbrownsugar/\nKate Davies Illustrations\nhttps://www.katedaviesillustration.ca/\nKeanu Bori and Parmeet Arora Bori\nhttps://www.instagram.com/parmeetarorabori/?hl=en\nStitch’N’Stuff\nhttps://www.instagram.com/stitchnstuffstudios/?hl=en\nOhimgod\nhttps://www.instagram.com/ohimgoood/?hl=en\nZestyplan\nhttps://www.instagram.com/zestyplan/?hl=en\nSiki Spasic artist\nhttps://www.instagram.com/seekjewellery/?hl=en
URL:https://animalrightstoronto.com/event/vegan-holiday-market-at-alk/
LOCATION:Animal Liberation Kitchen\, 100 Broadview Ave\, Toronto\, Ontario\, M4M 3H3\, Canada
CATEGORIES:Vegan Event
ATTACH;FMTTYPE=image/jpeg:https://animalrightstoronto.com/wp-content/uploads/2024/12/IMG_1378.jpeg
END:VEVENT
END:VCALENDAR