BEGIN:VCALENDAR
VERSION:2.0
PRODID:-//Animal Rights Toronto - ECPv6.15.20//NONSGML v1.0//EN
CALSCALE:GREGORIAN
METHOD:PUBLISH
X-ORIGINAL-URL:https://animalrightstoronto.com
X-WR-CALDESC:Events for Animal Rights Toronto
REFRESH-INTERVAL;VALUE=DURATION:PT1H
X-Robots-Tag:noindex
X-PUBLISHED-TTL:PT1H
BEGIN:VTIMEZONE
TZID:America/Toronto
BEGIN:DAYLIGHT
TZOFFSETFROM:-0500
TZOFFSETTO:-0400
TZNAME:EDT
DTSTART:20230312T070000
END:DAYLIGHT
BEGIN:STANDARD
TZOFFSETFROM:-0400
TZOFFSETTO:-0500
TZNAME:EST
DTSTART:20231105T060000
END:STANDARD
BEGIN:DAYLIGHT
TZOFFSETFROM:-0500
TZOFFSETTO:-0400
TZNAME:EDT
DTSTART:20240310T070000
END:DAYLIGHT
BEGIN:STANDARD
TZOFFSETFROM:-0400
TZOFFSETTO:-0500
TZNAME:EST
DTSTART:20241103T060000
END:STANDARD
BEGIN:DAYLIGHT
TZOFFSETFROM:-0500
TZOFFSETTO:-0400
TZNAME:EDT
DTSTART:20250309T070000
END:DAYLIGHT
BEGIN:STANDARD
TZOFFSETFROM:-0400
TZOFFSETTO:-0500
TZNAME:EST
DTSTART:20251102T060000
END:STANDARD
END:VTIMEZONE
BEGIN:VEVENT
DTSTART;TZID=America/Toronto:20241214T143000
DTEND;TZID=America/Toronto:20241214T143000
DTSTAMP:20260421T210941
CREATED:20241205T195202Z
LAST-MODIFIED:20241205T195202Z
UID:6832-1734186600-1734186600@animalrightstoronto.com
SUMMARY:Protesting Louis Vuitton and Other Targets
DESCRIPTION:Join us after the Mercy for Animals demo at Whole Foods nearby.\nWe’ll be protesting Louis Vuitton and visiting other nearby retailers who think it’s ok to sell real fur – real animal torture. \nNote: Please check the Facebook event page for updates.
URL:https://animalrightstoronto.com/event/protesting-louis-vuitton-and-other-targets/
LOCATION:Louis Vuitton Maison Toronto\, 150 Bloor Street West\, Toronto\, M5S 2X9\, CA
CATEGORIES:Anti-Fur-Leather-Skin
ATTACH;FMTTYPE=image/jpeg:https://animalrightstoronto.com/wp-content/uploads/2024/12/protesting-Louis-Vuitton.jpg
END:VEVENT
BEGIN:VEVENT
DTSTART;TZID=America/Toronto:20241205T170000
DTEND;TZID=America/Toronto:20241205T200000
DTSTAMP:20260421T210941
CREATED:20241031T213814Z
LAST-MODIFIED:20241031T213852Z
UID:6475-1733418000-1733428800@animalrightstoronto.com
SUMMARY:Bi-weekly Plant Based Treaty Campaign Meeting
DESCRIPTION:Join our Plant Based Treaty Toronto campaign planning open meetings every other Thursday 5pm-8pm at Wishbone Animal Rights Lab\, located at 600 Bay Street – suite 305 *see notes below. \nWe might have a different meeting location every once in a while\, which is announced on the “Discussion” tab of the Facebook event page. Feel free to contact us at any time if you have any questions! \nWe hope to see you soon! Click going or interested (on Facebook event page) to receive updates promptly and feel free to invite and bring friends! \nWe have been brainstorming and executing ideas to get Toronto and other cities to endorse the Plant Based Treaty; implement plant-based policies in response to the climate\, ocean\, biodiversity and animal crisis; working with people\, institutions and supportive businesses. Be a part of the change you wish to see! \n*Please note that the doors at the lab and elevator are open and available if you arrive before 5pm; and after 5pm\, please call (647) 904-5285 (our sign with number will be at the door too)\, so we can let you in right away \nNote: Please check the Facebook event page for updates.
URL:https://animalrightstoronto.com/event/bi-weekly-plant-based-treaty-campaign-meeting-dec-5/
LOCATION:Wishbone Animal Rights Lab\, Suite 305\, 600 Bay Street\, Toronto\, Ontario\, M5G 1M6\, Canada
CATEGORIES:Plant Based Treaty
ATTACH;FMTTYPE=image/jpeg:https://animalrightstoronto.com/wp-content/uploads/2024/03/PBT_weekly_meetins_2024jpg.jpg
END:VEVENT
END:VCALENDAR