BEGIN:VCALENDAR
VERSION:2.0
PRODID:-//Animal Rights Toronto - ECPv6.15.20//NONSGML v1.0//EN
CALSCALE:GREGORIAN
METHOD:PUBLISH
X-WR-CALNAME:Animal Rights Toronto
X-ORIGINAL-URL:https://animalrightstoronto.com
X-WR-CALDESC:Events for Animal Rights Toronto
REFRESH-INTERVAL;VALUE=DURATION:PT1H
X-Robots-Tag:noindex
X-PUBLISHED-TTL:PT1H
BEGIN:VTIMEZONE
TZID:America/Toronto
BEGIN:DAYLIGHT
TZOFFSETFROM:-0500
TZOFFSETTO:-0400
TZNAME:EDT
DTSTART:20230312T070000
END:DAYLIGHT
BEGIN:STANDARD
TZOFFSETFROM:-0400
TZOFFSETTO:-0500
TZNAME:EST
DTSTART:20231105T060000
END:STANDARD
BEGIN:DAYLIGHT
TZOFFSETFROM:-0500
TZOFFSETTO:-0400
TZNAME:EDT
DTSTART:20240310T070000
END:DAYLIGHT
BEGIN:STANDARD
TZOFFSETFROM:-0400
TZOFFSETTO:-0500
TZNAME:EST
DTSTART:20241103T060000
END:STANDARD
BEGIN:DAYLIGHT
TZOFFSETFROM:-0500
TZOFFSETTO:-0400
TZNAME:EDT
DTSTART:20250309T070000
END:DAYLIGHT
BEGIN:STANDARD
TZOFFSETFROM:-0400
TZOFFSETTO:-0500
TZNAME:EST
DTSTART:20251102T060000
END:STANDARD
END:VTIMEZONE
BEGIN:VEVENT
DTSTART;TZID=America/Toronto:20241105T090000
DTEND;TZID=America/Toronto:20241105T130000
DTSTAMP:20260421T210747
CREATED:20240803T000212Z
LAST-MODIFIED:20240803T000212Z
UID:5143-1730797200-1730811600@animalrightstoronto.com
SUMMARY:Toronto Cow Save Vigil
DESCRIPTION:Toronto Cow Save holds vigils for the cows to bear witness to\, to speak up for\, and to bring awareness to the hundreds of lives who are needlessly and violently stolen daily at Toronto slaughterhouses. \nNOTE: Please check the Facebook event page before attending for changes or cancellation. \nPlease join us! Bring a friend. Be their voice.\nPlacards\, leaflets\, and support are provided. \nWe usually go to a coffee shop after to decompress and share\, everyone is welcome and encouraged to join. \nLearn more at TorontoCowSave.com
URL:https://animalrightstoronto.com/event/toronto-cow-save-vigil-3/
LOCATION:St. Helens Meat Packers Ltd\, 1-3 Glen Scarlett Rd.\, Toronto\, Ontario\, M6N 1P5\, Canada
CATEGORIES:Toronto Cow Save
ATTACH;FMTTYPE=image/jpeg:https://animalrightstoronto.com/wp-content/uploads/2024/04/Toronto_Cow_Save_vigil.jpeg
END:VEVENT
BEGIN:VEVENT
DTSTART;TZID=America/Toronto:20241105T150000
DTEND;TZID=America/Toronto:20241105T150000
DTSTAMP:20260421T210747
CREATED:20241104T022442Z
LAST-MODIFIED:20241104T022453Z
UID:6515-1730818800-1730818800@animalrightstoronto.com
SUMMARY:Protesting the Royal Ag in Toronto
DESCRIPTION:Join us for a peaceful demonstration\, on the public sidewalk\, to protest the use and abuse of the live animals inside the Royal Agricultural Winter Fair. \nIn the morning\, from 9am\, there will be a vigil for the cows\, organized by Toronto Cow Save. Witness cows\, gentle individuals\, arriving at St. Helen’s Meat Packers\, just adjacent to the Stockyards Shopping Centre\, a few steps away at Keele and St Clair. \nNote: Please check the Facebook event page for updates.
URL:https://animalrightstoronto.com/event/protesting-the-royal-ag-in-toronto/
LOCATION:Prince’s Gates\, CNE\, 11 Princes' Blvd\, Toronto\, Ontario\, M6K 3C3\, Canada
CATEGORIES:Protest or Rally
ATTACH;FMTTYPE=image/jpeg:https://animalrightstoronto.com/wp-content/uploads/2024/11/Protesting_Royal_Torture_Fair.jpg
END:VEVENT
END:VCALENDAR